BEGIN:VCALENDAR
VERSION:2.0
PRODID:-//Cedar Bridge Foundation - ECPv6.15.20//NONSGML v1.0//EN
CALSCALE:GREGORIAN
METHOD:PUBLISH
X-ORIGINAL-URL:https://cedarbridgefoundation.org
X-WR-CALDESC:Events for Cedar Bridge Foundation
REFRESH-INTERVAL;VALUE=DURATION:PT1H
X-Robots-Tag:noindex
X-PUBLISHED-TTL:PT1H
BEGIN:VTIMEZONE
TZID:America/New_York
BEGIN:DAYLIGHT
TZOFFSETFROM:-0500
TZOFFSETTO:-0400
TZNAME:EDT
DTSTART:20250309T070000
END:DAYLIGHT
BEGIN:STANDARD
TZOFFSETFROM:-0400
TZOFFSETTO:-0500
TZNAME:EST
DTSTART:20251102T060000
END:STANDARD
BEGIN:DAYLIGHT
TZOFFSETFROM:-0500
TZOFFSETTO:-0400
TZNAME:EDT
DTSTART:20260308T070000
END:DAYLIGHT
BEGIN:STANDARD
TZOFFSETFROM:-0400
TZOFFSETTO:-0500
TZNAME:EST
DTSTART:20261101T060000
END:STANDARD
BEGIN:DAYLIGHT
TZOFFSETFROM:-0500
TZOFFSETTO:-0400
TZNAME:EDT
DTSTART:20270314T070000
END:DAYLIGHT
BEGIN:STANDARD
TZOFFSETFROM:-0400
TZOFFSETTO:-0500
TZNAME:EST
DTSTART:20271107T060000
END:STANDARD
END:VTIMEZONE
BEGIN:VEVENT
DTSTART;TZID=America/New_York:20260108T123000
DTEND;TZID=America/New_York:20260108T143000
DTSTAMP:20260421T111304
CREATED:20251228T120103Z
LAST-MODIFIED:20251228T121807Z
UID:31534-1767875400-1767882600@cedarbridgefoundation.org
SUMMARY:Bowling For Adults-January 8 2026
DESCRIPTION:Date: January 8\, 2026 Time: 12:30pm-2:30pm (Appx ending time) \nBowling Fun for Adults with Exceptional needs – A Welcoming and Inclusive Experience! Join Cedar Bridge Foundation’s Bowling Day for a fun-filled experience where adults with special needs can socialize\, make friends\, and create lasting memories. Our welcoming space brings individuals of all abilities together to enjoy the game and build connections in a supportive environment. At Cedar Bridge Foundation\, we provide enriching experiences that boost confidence\, enhance social skills\, and strengthen community bonds. Our bowling events cater to all skill levels\, ensuring that both experienced bowlers and first-timers feel encouraged and supported. Bowling isn’t just about the game—it’s about making meaningful friendships\, sharing laughter\, and feeling a sense of belonging. \nThis event gives participants a chance to interact\, stay active\, and celebrate achievements in a stress-free\, inclusive setting. Every week\, our bowling sessions create an inviting atmosphere where participants feel comfortable\, valued\, and encouraged. Players get to meet new people\, develop friendships\, and engage in a lively and friendly environment. Bowling offers a fun way to stay active while improving coordination and movement. Each game brings excitement\, from rolling a perfect strike to cheering for friends\, and every moment adds to an unforgettable experience. \nHosted by CBF this is a nonsponsored event: cost is $4.50 per game includes shoes; please pay the bowling alley at the event. Participants can play 1 or 2 games\, or simply come to hangout and have fun! Palm Coast Lanes website: https://palmcoastlanes.com/ To learn more about Cedar Bridge Foundation programs: https://cedarbridgefoundation.org/  
URL:https://cedarbridgefoundation.org/event/bowling-for-adults-january-8-2026/
LOCATION:Palm Coast Bowling Lanes\, 11 Old Kings Rd N\, Palm Coast\, FL\, 32137\, United States
CATEGORIES:Recreational,Social and Life Skills
ATTACH;FMTTYPE=image/jpeg:https://cedarbridgefoundation.org/wp-content/uploads/2025/07/WeeklyBowling.jpg
ORGANIZER;CN="Cedar Bridge Foundation":MAILTO:contact@cedarbridgefoundation.org
END:VEVENT
BEGIN:VEVENT
DTSTART;TZID=America/New_York:20260114T150000
DTEND;TZID=America/New_York:20260114T160000
DTSTAMP:20260421T111304
CREATED:20251230T150456Z
LAST-MODIFIED:20251230T150456Z
UID:31572-1768402800-1768406400@cedarbridgefoundation.org
SUMMARY:Hangout Guys January 2026
DESCRIPTION:Date: January 2026 Time: 3pm-4pm\nRegistration: https://www.zeffy.com/en-US/ticketing/hangout-guys-january-meet-up\n\nHangout Guys – A Place to Connect & Have Fun!\nCedar Bridge Foundation’s Hangout Guys group creates a fun\, inclusive\, and welcoming environment where men (17+) with developmental disabilities socialize\, build friendships\, and develop essential life skills. Every gathering encourages participants to connect\, engage in activities\, and strengthen their confidence while having a great time. \nWhy Join Hangout Guys?\nBuild Lasting Friendships – Meet new people and form strong\, supportive relationships in a relaxed\, enjoyable setting.Participate in Fun Activities – Join in games\, team challenges\, and hands-on experiences that promote creativity and teamwork.Strengthen Communication & Social Skills – Practice valuable interpersonal skills in a safe and friendly environment.Gain Independence – Make decisions\, collaborate with others\, and take part in activities that encourage confidence and self-reliance.Create Unforgettable Memories – Laugh\, learn\, and share great experiences with a fantastic group of friends. \nCedar Bridge Foundation empowers individuals with developmental disabilities by offering programs that promote personal growth\, social engagement\, and community inclusion. Hangout Guys provides the perfect space for meaningful connections while participants enjoy structured yet flexible activities tailored to their interests. \nEach session encourages teamwork\, problem-solving\, and creativity while ensuring everyone feels welcome and valued. Whether playing interactive games\, learning new skills\, or simply hanging out and sharing great conversations\, this group fosters a positive and uplifting atmosphere. \nNew participants are always welcome! Whether you love being social or prefer to ease into new experiences at your own pace\, Hangout Guys offers a supportive space where you belong. \nFor more information about Cedar Bridge Foundation events and programs\, visit our website at www.cedarbridgefoundation.org \nThis is a CBF Hosted event that is a Nonsponsor event: Average cost is $6.00
URL:https://cedarbridgefoundation.org/event/hangout-guys-january-2026/
LOCATION:Scoops & Subs\, 223 St Joe Plaza Dr\, Palm Coast\, FL\, 32137\, United States
CATEGORIES:Social and Life Skills
ATTACH;FMTTYPE=image/webp:https://cedarbridgefoundation.org/wp-content/uploads/2025/12/FB-cover-Hangout-Guys.webp
ORGANIZER;CN="Cedar Bridge Foundation":MAILTO:contact@cedarbridgefoundation.org
END:VEVENT
BEGIN:VEVENT
DTSTART;TZID=America/New_York:20260115T123000
DTEND;TZID=America/New_York:20260115T143000
DTSTAMP:20260421T111304
CREATED:20251228T120304Z
LAST-MODIFIED:20251228T120304Z
UID:31536-1768480200-1768487400@cedarbridgefoundation.org
SUMMARY:Bowling For Adults-January 15 2026
DESCRIPTION:Date: January 15\, 2026 Time: 12:30pm-2:30pm (Appx ending time) \nBowling Fun for Adults with Exceptional needs – A Welcoming and Inclusive Experience! Join Cedar Bridge Foundation’s Bowling Day for a fun-filled experience where adults with special needs can socialize\, make friends\, and create lasting memories. Our welcoming space brings individuals of all abilities together to enjoy the game and build connections in a supportive environment. At Cedar Bridge Foundation\, we provide enriching experiences that boost confidence\, enhance social skills\, and strengthen community bonds. Our bowling events cater to all skill levels\, ensuring that both experienced bowlers and first-timers feel encouraged and supported. Bowling isn’t just about the game—it’s about making meaningful friendships\, sharing laughter\, and feeling a sense of belonging. \nThis event gives participants a chance to interact\, stay active\, and celebrate achievements in a stress-free\, inclusive setting. Every week\, our bowling sessions create an inviting atmosphere where participants feel comfortable\, valued\, and encouraged. Players get to meet new people\, develop friendships\, and engage in a lively and friendly environment. Bowling offers a fun way to stay active while improving coordination and movement. Each game brings excitement\, from rolling a perfect strike to cheering for friends\, and every moment adds to an unforgettable experience. \nHosted by CBF this is a nonsponsored event: cost is $4.50 per game includes shoes; please pay the bowling alley at the event. Participants can play 1 or 2 games\, or simply come to hangout and have fun! Palm Coast Lanes website: https://palmcoastlanes.com/ To learn more about Cedar Bridge Foundation programs: https://cedarbridgefoundation.org/  
URL:https://cedarbridgefoundation.org/event/bowling-for-adults-january-15-2026/
LOCATION:Palm Coast Bowling Lanes\, 11 Old Kings Rd N\, Palm Coast\, FL\, 32137\, United States
CATEGORIES:Recreational,Social and Life Skills
ATTACH;FMTTYPE=image/jpeg:https://cedarbridgefoundation.org/wp-content/uploads/2025/07/WeeklyBowling.jpg
ORGANIZER;CN="Cedar Bridge Foundation":MAILTO:contact@cedarbridgefoundation.org
END:VEVENT
BEGIN:VEVENT
DTSTART;TZID=America/New_York:20260117T113000
DTEND;TZID=America/New_York:20260117T130000
DTSTAMP:20260421T111304
CREATED:20251228T170201Z
LAST-MODIFIED:20251228T170201Z
UID:31556-1768649400-1768654800@cedarbridgefoundation.org
SUMMARY:Martin Luther King Jr. Parade in Bunnell
DESCRIPTION:Register today and help us make this event unforgettable! We will meet in front of the GW Carver Center \nRegistration: https://www.zeffy.com/en-US/ticketing/martin-luther-king-jr-parade–2026 \nCedar Bridge Foundation is proud to participate in the annual Martin Luther King Jr. Parade\, a meaningful community celebration honoring the life\, legacy\, and vision of Dr. Martin Luther King Jr. This special event brings people together to reflect on Dr. King’s message of unity\, service\, equality\, and inclusion—values that strongly align with Cedar Bridge Foundation’s mission. \nWe invite CBF participants\, families\, volunteers\, supporters\, and community partners to join us as we proudly walk together in the parade. Marching side by side\, we celebrate diversity\, advocate for inclusion\, and raise awareness for individuals with exceptional needs—demonstrating that everyone belongs and everyone matters. \nParticipation in the parade is a joyful and empowering experience\, offering a visible reminder of the importance of community connection\, mutual respect\, and working together to build a more inclusive world. \nCome walk with us\, celebrate service and unity\, and help Cedar Bridge Foundation continue to bridge the gap between ability and opportunity. \nTogether\, we honor the dream. Together\, we build the bridge. \nEmpowering People. Expanding Possibilities. \nLet’s show the community what Cedar Bridge is all about\,  joy\, inclusion\, and a commitment to expanding possibilities for individuals with developmental disabilities. \nFor additional information about Cedar Bridge Foundation: www.cedarbridgefoundation.org
URL:https://cedarbridgefoundation.org/event/martin-luther-king-jr-parade-in-bunnell/
LOCATION:Bunnell\, 201 E. Drain Street\, Bunnell\, FL\, 32110\, United States
CATEGORIES:Advocacy,Community Outreach,Recreational
ATTACH;FMTTYPE=image/png:https://cedarbridgefoundation.org/wp-content/uploads/2025/12/Join-Us.png
ORGANIZER;CN="Cedar Bridge Foundation":MAILTO:contact@cedarbridgefoundation.org
END:VEVENT
BEGIN:VEVENT
DTSTART;TZID=America/New_York:20260120T135000
DTEND;TZID=America/New_York:20260120T155000
DTSTAMP:20260421T111304
CREATED:20251228T203542Z
LAST-MODIFIED:20260119T174725Z
UID:31565-1768917000-1768924200@cedarbridgefoundation.org
SUMMARY:Movie Matinee January 2026
DESCRIPTION:Movie Matinee: Charlie the Wonder Dog\nDate: January 20 (Tuesday)  Time: 1:50 pm (please check back as the movie theater may slightly change the time). The movie runs 1hour 32minutes (Rated PG) \nPlease let us know you are coming!: https://www.zeffy.com/en-US/ticketing/january-2026-movie-charlie-the-wonder-dog \nLooking for a fun and welcoming way to connect with others while enjoying a great movie? Our Monthly Movie Matinee is a special event designed to provide a relaxed and inclusive environment where everyone can unwind\, socialize\, and have a great time. Held at a local theater\, this event offers more than just a movie\, it’s an opportunity to build friendships\, share laughter\, and be part of a community that values and celebrates each individual. Whether you’re a fan of action-packed blockbusters\, heartwarming comedies\, or inspiring stories\, our carefully chosen films aim to entertain and uplift. \nThe Movie Matinee is more than just entertainment\, it’s part of Cedar Bridge Foundation’s commitment to creating enriching experiences that empower individuals with developmental disabilities. By attending\, participants not only enjoy a great film but also strengthen their social skills\, boost confidence\, and build lasting connections in a space that celebrates their uniqueness. \nFor more information about our programs; visit our website: www.cedarbridgefoundation.org
URL:https://cedarbridgefoundation.org/event/movie-matinee-january-2026/
LOCATION:Palm Coast Epic Theater\, 1185 Central Ave\, Palm Coast\, FL\, 32137\, United States
CATEGORIES:Recreational,Social and Life Skills
ATTACH;FMTTYPE=image/jpeg:https://cedarbridgefoundation.org/wp-content/uploads/2025/09/Movie-Matinee-for-website.jpg
ORGANIZER;CN="Cedar Bridge Foundation":MAILTO:contact@cedarbridgefoundation.org
END:VEVENT
BEGIN:VEVENT
DTSTART;TZID=America/New_York:20260122T123000
DTEND;TZID=America/New_York:20260122T143000
DTSTAMP:20260421T111304
CREATED:20251228T120355Z
LAST-MODIFIED:20251228T120355Z
UID:31538-1769085000-1769092200@cedarbridgefoundation.org
SUMMARY:Bowling For Adults-January 22 2026
DESCRIPTION:Date: January 22\, 2026 Time: 12:30pm-2:30pm (Appx ending time) \nBowling Fun for Adults with Exceptional needs – A Welcoming and Inclusive Experience! Join Cedar Bridge Foundation’s Bowling Day for a fun-filled experience where adults with special needs can socialize\, make friends\, and create lasting memories. Our welcoming space brings individuals of all abilities together to enjoy the game and build connections in a supportive environment. At Cedar Bridge Foundation\, we provide enriching experiences that boost confidence\, enhance social skills\, and strengthen community bonds. Our bowling events cater to all skill levels\, ensuring that both experienced bowlers and first-timers feel encouraged and supported. Bowling isn’t just about the game—it’s about making meaningful friendships\, sharing laughter\, and feeling a sense of belonging. \nThis event gives participants a chance to interact\, stay active\, and celebrate achievements in a stress-free\, inclusive setting. Every week\, our bowling sessions create an inviting atmosphere where participants feel comfortable\, valued\, and encouraged. Players get to meet new people\, develop friendships\, and engage in a lively and friendly environment. Bowling offers a fun way to stay active while improving coordination and movement. Each game brings excitement\, from rolling a perfect strike to cheering for friends\, and every moment adds to an unforgettable experience. \nHosted by CBF this is a nonsponsored event: cost is $4.50 per game includes shoes; please pay the bowling alley at the event. Participants can play 1 or 2 games\, or simply come to hangout and have fun! Palm Coast Lanes website: https://palmcoastlanes.com/ To learn more about Cedar Bridge Foundation programs: https://cedarbridgefoundation.org/  
URL:https://cedarbridgefoundation.org/event/bowling-for-adults-january-22-2026/
LOCATION:Palm Coast Bowling Lanes\, 11 Old Kings Rd N\, Palm Coast\, FL\, 32137\, United States
CATEGORIES:Recreational,Social and Life Skills
ATTACH;FMTTYPE=image/jpeg:https://cedarbridgefoundation.org/wp-content/uploads/2025/07/WeeklyBowling.jpg
ORGANIZER;CN="Cedar Bridge Foundation":MAILTO:contact@cedarbridgefoundation.org
END:VEVENT
BEGIN:VEVENT
DTSTART;TZID=America/New_York:20260129T123000
DTEND;TZID=America/New_York:20260129T143000
DTSTAMP:20260421T111304
CREATED:20251228T120439Z
LAST-MODIFIED:20251228T120439Z
UID:31540-1769689800-1769697000@cedarbridgefoundation.org
SUMMARY:Bowling For Adults-January 29 2026
DESCRIPTION:Date: January 29\, 2026 Time: 12:30pm-2:30pm (Appx ending time) \nBowling Fun for Adults with Exceptional needs – A Welcoming and Inclusive Experience! Join Cedar Bridge Foundation’s Bowling Day for a fun-filled experience where adults with special needs can socialize\, make friends\, and create lasting memories. Our welcoming space brings individuals of all abilities together to enjoy the game and build connections in a supportive environment. At Cedar Bridge Foundation\, we provide enriching experiences that boost confidence\, enhance social skills\, and strengthen community bonds. Our bowling events cater to all skill levels\, ensuring that both experienced bowlers and first-timers feel encouraged and supported. Bowling isn’t just about the game—it’s about making meaningful friendships\, sharing laughter\, and feeling a sense of belonging. \nThis event gives participants a chance to interact\, stay active\, and celebrate achievements in a stress-free\, inclusive setting. Every week\, our bowling sessions create an inviting atmosphere where participants feel comfortable\, valued\, and encouraged. Players get to meet new people\, develop friendships\, and engage in a lively and friendly environment. Bowling offers a fun way to stay active while improving coordination and movement. Each game brings excitement\, from rolling a perfect strike to cheering for friends\, and every moment adds to an unforgettable experience. \nHosted by CBF this is a nonsponsored event: cost is $4.50 per game includes shoes; please pay the bowling alley at the event. Participants can play 1 or 2 games\, or simply come to hangout and have fun! Palm Coast Lanes website: https://palmcoastlanes.com/ To learn more about Cedar Bridge Foundation programs: https://cedarbridgefoundation.org/  
URL:https://cedarbridgefoundation.org/event/bowling-for-adults-january-29-2026/
LOCATION:Palm Coast Bowling Lanes\, 11 Old Kings Rd N\, Palm Coast\, FL\, 32137\, United States
CATEGORIES:Recreational,Social and Life Skills
ATTACH;FMTTYPE=image/jpeg:https://cedarbridgefoundation.org/wp-content/uploads/2025/07/WeeklyBowling.jpg
ORGANIZER;CN="Cedar Bridge Foundation":MAILTO:contact@cedarbridgefoundation.org
END:VEVENT
END:VCALENDAR