BEGIN:VCALENDAR
VERSION:2.0
PRODID:-//Cedar Bridge Foundation - ECPv6.15.20//NONSGML v1.0//EN
CALSCALE:GREGORIAN
METHOD:PUBLISH
X-ORIGINAL-URL:https://cedarbridgefoundation.org
X-WR-CALDESC:Events for Cedar Bridge Foundation
REFRESH-INTERVAL;VALUE=DURATION:PT1H
X-Robots-Tag:noindex
X-PUBLISHED-TTL:PT1H
BEGIN:VTIMEZONE
TZID:America/New_York
BEGIN:DAYLIGHT
TZOFFSETFROM:-0500
TZOFFSETTO:-0400
TZNAME:EDT
DTSTART:20250309T070000
END:DAYLIGHT
BEGIN:STANDARD
TZOFFSETFROM:-0400
TZOFFSETTO:-0500
TZNAME:EST
DTSTART:20251102T060000
END:STANDARD
BEGIN:DAYLIGHT
TZOFFSETFROM:-0500
TZOFFSETTO:-0400
TZNAME:EDT
DTSTART:20260308T070000
END:DAYLIGHT
BEGIN:STANDARD
TZOFFSETFROM:-0400
TZOFFSETTO:-0500
TZNAME:EST
DTSTART:20261101T060000
END:STANDARD
BEGIN:DAYLIGHT
TZOFFSETFROM:-0500
TZOFFSETTO:-0400
TZNAME:EDT
DTSTART:20270314T070000
END:DAYLIGHT
BEGIN:STANDARD
TZOFFSETFROM:-0400
TZOFFSETTO:-0500
TZNAME:EST
DTSTART:20271107T060000
END:STANDARD
END:VTIMEZONE
BEGIN:VEVENT
DTSTART;TZID=America/New_York:20260515T180000
DTEND;TZID=America/New_York:20260515T193000
DTSTAMP:20260421T203715
CREATED:20260421T110247Z
LAST-MODIFIED:20260421T110247Z
UID:32262-1778868000-1778873400@cedarbridgefoundation.org
SUMMARY:BeYOUtiful Ladies Club May 2026
DESCRIPTION:May 15\, 2026  Time: 6pm-7:30pm! \nRegister: https://www.zeffy.com/en-US/ticketing/beyoutiful-ladies-social-may–2026 \nJoin us for an unforgettable evening of fun\, friendship\, and fellowship at the BeYOUtiful Ladies Club Social Club . This club is an empowering social group designed specifically for young women (ages 17+) with exceptional needs\, such as Autism\, Cerebral Palsy\, Down Syndrome\, Intellectual Disabilities and more. Our monthly gatherings celebrate uniqueness\, self-expression\, and community through exciting activities\, sweet treats\, and heartfelt connections. \nSet in a welcoming and supportive environment\, our social events builds confidence\, creates memories\, and celebrates every participant’s beautiful individuality. Each month\, we gather to foster friendships\, encourage self-esteem\, and promote joy through interactive experiences that leave everyone smiling. With laughter and fun\, it’s a time to relax\, engage\, and belong. \nWhether you’re a returning member or it’s your first time joining us\, this event is open to all young women with exceptional needs who are ready to experience the magic of community. Our dedicated team and volunteers ensure every detail is thoughtfully planned to provide a safe and joyful environment. \nThe BeYOUtiful Ladies Club’s mission is to empower women with exceptional needs by building confidence\, promoting personal growth\, and offering enriching social experiences. Through events like this\, we create opportunities to embrace individuality\, practice social skills\, and just have fun. \nFor more information about our programs visit our website: www.cedarbridgefoundation.org
URL:https://cedarbridgefoundation.org/event/beyoutiful-ladies-club-may-2026/
LOCATION:Chick-fil-A State Rd 100 Palm Coast\, 5865 FL-100\, Palm Coast\, FL\, 32137\, United States
CATEGORIES:Social and Life Skills
ATTACH;FMTTYPE=image/webp:https://cedarbridgefoundation.org/wp-content/uploads/2026/03/4.10.26-BeYOUtiful-Ladies-Social-Group-.webp
ORGANIZER;CN="Cedar Bridge Foundation":MAILTO:contact@cedarbridgefoundation.org
END:VEVENT
BEGIN:VEVENT
DTSTART;TZID=America/New_York:20260529T180000
DTEND;TZID=America/New_York:20260529T200000
DTSTAMP:20260421T203715
CREATED:20260419T113707Z
LAST-MODIFIED:20260419T113724Z
UID:32239-1780077600-1780084800@cedarbridgefoundation.org
SUMMARY:Community Potluck May 29 2026
DESCRIPTION:Registration: https://www.zeffy.com/en-US/ticketing/cedar-bridge-potluck-may–2026 \nThe Cedar Bridge Foundation Community Potluck Picnic is a joyful community gathering designed to bring people together through food\, friendship\, and shared experiences. Hosted by Cedar Bridge Foundation in Palm Coast\, Florida\, this special event welcomes individuals with developmental disabilities\, their families\, caregivers\, and community members for an evening of connection\, celebration\, and fun. \nJoin us on March 27 from 6:00 PM – 8:00 PM for the Cedar Bridge Foundation Potluck Picnic\, where everyone is invited to bring a favorite dish to share. Whether it is a cherished family recipe\, a homemade appetizer\, or a delicious dessert\, the potluck table will feature a variety of foods that reflect the spirit of community and togetherness. \nThe Cedar Bridge Foundation Community Potluck Picnic is more than just a meal. It is an opportunity to build friendships\, strengthen community bonds\, and create meaningful memories. Participants will enjoy music\, karaoke\, laughter\, and the welcoming atmosphere that Cedar Bridge Foundation strives to create for individuals of all abilities. \nFood has a special way of bringing people together\, and this community potluck provides the perfect setting to meet new friends\, reconnect with familiar faces\, and celebrate the joy of being part of a supportive network. Events like this help foster belonging while promoting the organization’s mission of empowering individuals with developmental disabilities. \nIn addition to great food and entertainment\, the evening will include birthday celebrations and opportunities to connect with others in the Cedar Bridge Foundation community. Whether you love cooking\, singing karaoke\, or simply spending time with others\, this event offers something for everyone. \nImportant Notice: For safety reasons\, please do not bring any shellfish or peanut products. \nFor more information about the Cedar Bridge Foundation Potluck Picnic and other community programs\, visit www.cedarbridgefoundation.org.
URL:https://cedarbridgefoundation.org/event/community-potluck-may-29-2026/
LOCATION:James Holland Memorial Park\, 18 Florida Park Dr N\, Palm Coast\, FL\, 32137\, United States
CATEGORIES:Community Outreach,Social and Life Skills,Support
ATTACH;FMTTYPE=image/png:https://cedarbridgefoundation.org/wp-content/uploads/2025/06/newsletter-photo.png
ORGANIZER;CN="Cedar Bridge Foundation":MAILTO:contact@cedarbridgefoundation.org
END:VEVENT
END:VCALENDAR