BEGIN:VCALENDAR
VERSION:2.0
PRODID:-//Cedar Bridge Foundation - ECPv6.15.20//NONSGML v1.0//EN
CALSCALE:GREGORIAN
METHOD:PUBLISH
X-WR-CALNAME:Cedar Bridge Foundation
X-ORIGINAL-URL:https://cedarbridgefoundation.org
X-WR-CALDESC:Events for Cedar Bridge Foundation
REFRESH-INTERVAL;VALUE=DURATION:PT1H
X-Robots-Tag:noindex
X-PUBLISHED-TTL:PT1H
BEGIN:VTIMEZONE
TZID:America/New_York
BEGIN:DAYLIGHT
TZOFFSETFROM:-0500
TZOFFSETTO:-0400
TZNAME:EDT
DTSTART:20240310T070000
END:DAYLIGHT
BEGIN:STANDARD
TZOFFSETFROM:-0400
TZOFFSETTO:-0500
TZNAME:EST
DTSTART:20241103T060000
END:STANDARD
BEGIN:DAYLIGHT
TZOFFSETFROM:-0500
TZOFFSETTO:-0400
TZNAME:EDT
DTSTART:20250309T070000
END:DAYLIGHT
BEGIN:STANDARD
TZOFFSETFROM:-0400
TZOFFSETTO:-0500
TZNAME:EST
DTSTART:20251102T060000
END:STANDARD
BEGIN:DAYLIGHT
TZOFFSETFROM:-0500
TZOFFSETTO:-0400
TZNAME:EDT
DTSTART:20260308T070000
END:DAYLIGHT
BEGIN:STANDARD
TZOFFSETFROM:-0400
TZOFFSETTO:-0500
TZNAME:EST
DTSTART:20261101T060000
END:STANDARD
END:VTIMEZONE
BEGIN:VEVENT
DTSTART;TZID=America/New_York:20251031T180000
DTEND;TZID=America/New_York:20251031T200000
DTSTAMP:20260421T075310
CREATED:20250924T151343Z
LAST-MODIFIED:20250924T151343Z
UID:30697-1761933600-1761940800@cedarbridgefoundation.org
SUMMARY:Halloween Potluck Picnic in the Park October 2025
DESCRIPTION:Date: October 31\, 2025 Time: 6pm-8pm Halloween Party  \nRegistration: https://www.zeffy.com/en-US/ticketing/potluck-picnic-halloween-party-october–31 \nTo sign up for a dish: https://docs.google.com/spreadsheets/d/1yE5jYj5bZjfUxxQLNbFuXo9UizfLk88wjQEFpn28cOI/edit?usp=sharing \nOur Potluck Picnic is a community gathering a wonderful opportunity to come together and enjoy a variety of delicious homemade dishes. Bring your favorite dish to share\, whether it’s a cherished family recipe or something new you’re excited to try. From savory appetizers to sweet desserts\, there’s sure to be something for everyone to enjoy. This event is all about creating connections\, sharing stories\, and celebrating the joy of being part of a supportive and welcoming community. \nFood has a special way of bringing people together\, and the Potluck Picnic provides the perfect setting to enjoy it. As you sample dishes from fellow attendees\, you’ll have the chance to meet new friends\, reconnect with familiar faces\, and share in the joy of community. Whether you’re a seasoned chef or just love being part of the fun\, your contribution will make the event even more special. It’s not just about the food\, it’s about the connections and memories we create while sharing it. \nIn addition to the delicious food\, there will be engaging Karaoke to make the evening even more memorable. Get ready to sing your heart out and join in on fun. These activities are designed to bring everyone together\, fostering a spirit of friendship and celebration. \nIMPORTANT NOTICE: NO SHELLFISH OR PEANUT PRODUCTS \nFor more information visit our website at: www.cedarbridgefoundation.org \n 
URL:https://cedarbridgefoundation.org/event/halloween-potluck-picnic-in-the-park-october-2025/
LOCATION:James Holland Memorial Park\, 18 Florida Park Dr N\, Palm Coast\, FL\, 32137\, United States
CATEGORIES:Community Outreach,Social and Life Skills,Support
ATTACH;FMTTYPE=image/jpeg:https://cedarbridgefoundation.org/wp-content/uploads/2025/09/2025-Halloween-Party-1920-x-1080-px.jpg
ORGANIZER;CN="Cedar Bridge Foundation":MAILTO:contact@cedarbridgefoundation.org
END:VEVENT
BEGIN:VEVENT
DTSTART;TZID=America/New_York:20251025T123000
DTEND;TZID=America/New_York:20251025T143000
DTSTAMP:20260421T075310
CREATED:20250928T185938Z
LAST-MODIFIED:20251001T134712Z
UID:30899-1761395400-1761402600@cedarbridgefoundation.org
SUMMARY:Mom's Day Out October 2025
DESCRIPTION:Mom’s Day Out – A Special Day of Relaxation and Connection \nRegistration: https://www.zeffy.com/en-US/ticketing/moms-day-out-october \nThis is a CBF hosted and nonsponsored event: Participants are responsible for their meal cost. \nCedar Bridge Foundation invites you to Mom’s Day Out\, a special event designed for mothers of individuals with special needs. We understand the dedication and love that goes into caregiving\, and we believe that every mom deserves time to unwind\, recharge\, and connect with others who share similar experiences. This event offers a day of relaxation\, socialization\, and self-care\, allowing moms to step away from their daily routines and enjoy meaningful moments of joy and friendship. \nAt Mom’s Day Out\, we create a welcoming space where mothers can take a break\, laugh\, and build friendships with other moms who understand the unique journey of parenting an individual with exceptional needs. Enjoy a stress-free experience filled with engaging activities\, great conversation\, and a warm\, supportive community. Whether you’re looking for a chance to relax\, share stories\, or simply have fun\, this event is the perfect opportunity to focus on yourself for a couple of hours. \nJoin us for an unforgettable experience where you can enjoy time for yourself\, meet wonderful new friends\, and return home feeling refreshed and inspired. Mom’s Day Out is more than just an event—it’s a celebration of the incredible mothers who give so much to their families and communities. You deserve this time for yourself\, and we can’t wait to share it with you! \nWe look forward to welcoming you for a day of joy\, relaxation\, and connection! \nFor more information about our programs visit our website at https://cedarbridgefoundation.org/ \n  \n 
URL:https://cedarbridgefoundation.org/event/moms-day-out-october/
LOCATION:Salsa’s Restaurant\, 1115 Cornerstone Blvd Unit U\, Daytona Beach\, FL\, 32117\, United States
CATEGORIES:Community Outreach,Support
ATTACH;FMTTYPE=image/jpeg:https://cedarbridgefoundation.org/wp-content/uploads/2025/09/Facebook-Event-Moms-Day-Out.jpg
ORGANIZER;CN="Cedar Bridge Foundation":MAILTO:contact@cedarbridgefoundation.org
END:VEVENT
BEGIN:VEVENT
DTSTART;TZID=America/New_York:20250926T180000
DTEND;TZID=America/New_York:20250926T200000
DTSTAMP:20260421T075310
CREATED:20250913T105326Z
LAST-MODIFIED:20250913T105326Z
UID:30418-1758909600-1758916800@cedarbridgefoundation.org
SUMMARY:Potluck Picnic in the Park September 2025
DESCRIPTION:Date: September 26\, 2025 Time: 6pm-8pm For this Potluck we will also be celebrating the participants of our Bridge to the Future Cooking with Confidence. \nRegistration: https://www.zeffy.com/ticketing/cedar-bridge-community-potluck-august–2025 \nTo sign up for a dish: https://docs.google.com/spreadsheets/d/1yE5jYj5bZjfUxxQLNbFuXo9UizfLk88wjQEFpn28cOI/edit?usp=sharing \nOur Potluck Picnic is a community gathering a wonderful opportunity to come together and enjoy a variety of delicious homemade dishes. Bring your favorite dish to share\, whether it’s a cherished family recipe or something new you’re excited to try. From savory appetizers to sweet desserts\, there’s sure to be something for everyone to enjoy. This event is all about creating connections\, sharing stories\, and celebrating the joy of being part of a supportive and welcoming community. \nFood has a special way of bringing people together\, and the Potluck Picnic provides the perfect setting to enjoy it. As you sample dishes from fellow attendees\, you’ll have the chance to meet new friends\, reconnect with familiar faces\, and share in the joy of community. Whether you’re a seasoned chef or just love being part of the fun\, your contribution will make the event even more special. It’s not just about the food\, it’s about the connections and memories we create while sharing it. \nIn addition to the delicious food\, there will be engaging Karaoke to make the evening even more memorable. Get ready to sing your heart out and join in on fun. These activities are designed to bring everyone together\, fostering a spirit of friendship and celebration. \nIMPORTANT NOTICE: NO SHELLFISH OR PEANUT PRODUCTS \nFor more information visit our website at: www.cedarbridgefoundation.org \n 
URL:https://cedarbridgefoundation.org/event/potluck-picnic-in-the-park-september-2025/
LOCATION:James Holland Memorial Park\, 18 Florida Park Dr N\, Palm Coast\, FL\, 32137\, United States
CATEGORIES:Community Outreach,Social and Life Skills,Support
ATTACH;FMTTYPE=image/png:https://cedarbridgefoundation.org/wp-content/uploads/2025/06/newsletter-photo.png
ORGANIZER;CN="Cedar Bridge Foundation":MAILTO:contact@cedarbridgefoundation.org
END:VEVENT
BEGIN:VEVENT
DTSTART;VALUE=DATE:20250829
DTEND;VALUE=DATE:20250831
DTSTAMP:20260421T075310
CREATED:20250731T124926Z
LAST-MODIFIED:20250731T125145Z
UID:29116-1756454400-1756540799@cedarbridgefoundation.org
SUMMARY:Potluck Picnic in the Park August 2025
DESCRIPTION:Date: August 29\, 2025 Time: 6pm-8pm \nVenue: Inside Picnic at Parkview Church in Palm Coast  \nRegistration: https://www.zeffy.com/ticketing/cedar-bridge-community-potluck-august–2025 \nTo sign up for a dish: https://docs.google.com/spreadsheets/d/1yE5jYj5bZjfUxxQLNbFuXo9UizfLk88wjQEFpn28cOI/edit?usp=sharing \nOur Potluck Picnic is a community gathering a wonderful opportunity to come together and enjoy a variety of delicious homemade dishes. Bring your favorite dish to share\, whether it’s a cherished family recipe or something new you’re excited to try. From savory appetizers to sweet desserts\, there’s sure to be something for everyone to enjoy. This event is all about creating connections\, sharing stories\, and celebrating the joy of being part of a supportive and welcoming community. \nFood has a special way of bringing people together\, and the Potluck Picnic provides the perfect setting to enjoy it. As you sample dishes from fellow attendees\, you’ll have the chance to meet new friends\, reconnect with familiar faces\, and share in the joy of community. Whether you’re a seasoned chef or just love being part of the fun\, your contribution will make the event even more special. It’s not just about the food\, it’s about the connections and memories we create while sharing it. \nIn addition to the delicious food\, there will be engaging Karaoke and Bingo to make the evening even more memorable. Get ready to sing your heart out and join in on fun and friendly game that encourage laughter and bonding. These activities are designed to bring everyone together\, fostering a spirit of friendship and celebration. \nJoin us for this special event that embodies the heart of Cedar Bridge Foundation’s mission to empower and unite individuals with exceptional needs and their families. We can’t wait to see you there! \nIMPORTANT NOTICE: NO SHELLFISH OR PEANUT PRODUCTS \nFor more information visit our website at: www.cedarbridgefoundation.org \n 
URL:https://cedarbridgefoundation.org/event/potluck-picnic-in-the-park-august-2025/
LOCATION:Parkview Church\, 5435 Belle Terre Pkwy\, Palm Coast\, FL\, 32137\, United States
CATEGORIES:Community Outreach,Social and Life Skills,Support
ATTACH;FMTTYPE=image/png:https://cedarbridgefoundation.org/wp-content/uploads/2025/06/newsletter-photo.png
ORGANIZER;CN="Cedar Bridge Foundation":MAILTO:contact@cedarbridgefoundation.org
END:VEVENT
BEGIN:VEVENT
DTSTART;TZID=America/New_York:20250816T130000
DTEND;TZID=America/New_York:20250816T150000
DTSTAMP:20260421T075310
CREATED:20250731T132901Z
LAST-MODIFIED:20250731T132901Z
UID:29120-1755349200-1755356400@cedarbridgefoundation.org
SUMMARY:Mom's Day Out August
DESCRIPTION:Mom’s Day Out – A Special Day of Relaxation and Connection \nRegistration: https://www.zeffy.com/ticketing/moms-day-out \nThis is a CBF hosted and nonsponsored event: Participants are responsible for their meal cost. \nCedar Bridge Foundation invites you to Mom’s Day Out\, a special event designed for mothers of individuals with special needs. We understand the dedication and love that goes into caregiving\, and we believe that every mom deserves time to unwind\, recharge\, and connect with others who share similar experiences. This event offers a day of relaxation\, socialization\, and self-care\, allowing moms to step away from their daily routines and enjoy meaningful moments of joy and friendship. \nAt Mom’s Day Out\, we create a welcoming space where mothers can take a break\, laugh\, and build friendships with other moms who understand the unique journey of parenting an individual with exceptional needs. Enjoy a stress-free experience filled with engaging activities\, great conversation\, and a warm\, supportive community. Whether you’re looking for a chance to relax\, share stories\, or simply have fun\, this event is the perfect opportunity to focus on yourself for a couple of hours. \nJoin us for an unforgettable experience where you can enjoy time for yourself\, meet wonderful new friends\, and return home feeling refreshed and inspired. Mom’s Day Out is more than just an event—it’s a celebration of the incredible mothers who give so much to their families and communities. You deserve this time for yourself\, and we can’t wait to share it with you! \nWe look forward to welcoming you for a day of joy\, relaxation\, and connection! \nFor more information about our programs visit our website at https://cedarbridgefoundation.org/ \n  \n 
URL:https://cedarbridgefoundation.org/event/moms-day-out-august/
LOCATION:Olive Garden\, 5294 State Rte 100\, Palm Coast\, FL\, 32164\, United States
CATEGORIES:Community Outreach,Support
ATTACH;FMTTYPE=image/jpeg:https://cedarbridgefoundation.org/wp-content/uploads/2025/07/Facebook-Event-Moms-Day-Out.jpg
ORGANIZER;CN="Cedar Bridge Foundation":MAILTO:contact@cedarbridgefoundation.org
END:VEVENT
BEGIN:VEVENT
DTSTART;VALUE=DATE:20250725
DTEND;VALUE=DATE:20250727
DTSTAMP:20260421T075310
CREATED:20250718T130238Z
LAST-MODIFIED:20250718T150812Z
UID:29009-1753430400-1753516799@cedarbridgefoundation.org
SUMMARY:Potluck Picnic in the Park July 2025
DESCRIPTION:Date: July 25\, 2025 Time: 6pm-8pm \nVenue: Inside Picnic at Parkview Church in Palm Coast  \nOur Potluck Picnic is a community gathering a wonderful opportunity to come together and enjoy a variety of delicious homemade dishes. Bring your favorite dish to share\, whether it’s a cherished family recipe or something new you’re excited to try. From savory appetizers to sweet desserts\, there’s sure to be something for everyone to enjoy. This event is all about creating connections\, sharing stories\, and celebrating the joy of being part of a supportive and welcoming community. \nRegistration: https://www.zeffy.com/en-US/ticketing/cedar-bridge-potluck-picnic \nTo sign up for a dish: https://docs.google.com/spreadsheets/d/1yE5jYj5bZjfUxxQLNbFuXo9UizfLk88wjQEFpn28cOI/edit?usp=sharing \nFood has a special way of bringing people together\, and the Potluck Picnic provides the perfect setting to enjoy it. As you sample dishes from fellow attendees\, you’ll have the chance to meet new friends\, reconnect with familiar faces\, and share in the joy of community. Whether you’re a seasoned chef or just love being part of the fun\, your contribution will make the event even more special. It’s not just about the food\, it’s about the connections and memories we create while sharing it. \nIn addition to the delicious food\, there will be engaging Karaoke and Bingo to make the evening even more memorable. Get ready to sing your heart out and join in on fun and friendly game that encourage laughter and bonding. These activities are designed to bring everyone together\, fostering a spirit of friendship and celebration. \nJoin us for this special event that embodies the heart of Cedar Bridge Foundation’s mission to empower and unite individuals with exceptional needs and their families. We can’t wait to see you there! \nIMPORTANT NOTICE: NO SHELLFISH OR PEANUT PRODUCTS \nFor more information visit our website at: www.cedarbridgefoundation.org \n 
URL:https://cedarbridgefoundation.org/event/potluck-picnic-in-the-park-july-25-2025/
LOCATION:Parkview Church\, 5435 Belle Terre Pkwy\, Palm Coast\, FL\, 32137\, United States
CATEGORIES:Community Outreach,Social and Life Skills,Support
ATTACH;FMTTYPE=image/png:https://cedarbridgefoundation.org/wp-content/uploads/2025/06/newsletter-photo.png
ORGANIZER;CN="Cedar Bridge Foundation":MAILTO:contact@cedarbridgefoundation.org
END:VEVENT
BEGIN:VEVENT
DTSTART;TZID=America/New_York:20250520T170000
DTEND;TZID=America/New_York:20250520T200000
DTSTAMP:20260421T075310
CREATED:20250421T144226Z
LAST-MODIFIED:20250422T120655Z
UID:27875-1747760400-1747771200@cedarbridgefoundation.org
SUMMARY:Cedar Bridge Turns One at Food Truck Tuesday
DESCRIPTION:Cedar Bridge Foundation Turns One – Celebrate with Us at Food Truck Tuesday! 🎉 \nCedar Bridge Foundation (CBF) turns ONE this May\, and we’re inviting you to celebrate with us at Palm Coast’s Food Truck Tuesday! The City of Palm Coast selected us as this month’s event beneficiary\, and we’re thrilled to mark this milestone with our incredible community. \nJoin us at Central Park in Town Center for a family-friendly evening packed with delicious food\, upbeat music\, and meaningful moments. Food Truck Tuesday ranks as one of the area’s most beloved monthly gatherings\, showcasing a variety of local food trucks serving everything from savory BBQ and tacos to mouthwatering desserts and global flavors. \nThroughout our first year\, Cedar Bridge Foundation has built a strong foundation of inclusion and empowerment for individuals with developmental disabilities and their families. We’ve hosted life skills workshops\, fun social outings\, advocacy events\, and caregiver support groups — all with the goal of creating connection\, promoting independence\, and embracing neurodiversity. \nWhen you attend Food Truck Tuesday\, you don’t just enjoy great food — you help us grow. Your presence and participation support our mission and fund the programs that truly make a difference in our community. \nAs we celebrate this exciting milestone\, we also set our sights on the future. With your help\, we plan to expand our impact and continue creating opportunities where everyone can thrive. Whether you’ve walked alongside us from the beginning or are just discovering who we are\, we welcome you to join in the celebration. \nCome hungry\, bring friends\, and celebrate one incredible year of Cedar Bridge Foundation! \nFor more information about Cedar Bridge Foundation program\, visit our website at www.cedarbridgefoundation.org
URL:https://cedarbridgefoundation.org/event/cedar-bridge-turns-one-at-food-truck-tuesday/
LOCATION:Central Park Palm Coast\, 975 Central Ave\, Palm Coast\, FL\, 32164\, United States
CATEGORIES:Advocacy,Community Outreach,Donation,Social and Life Skills,Support
ATTACH;FMTTYPE=image/jpeg:https://cedarbridgefoundation.org/wp-content/uploads/2025/04/White-Pastel-Birthday-Flyer-us-Letter-Made-with-PosterMyWall.jpg
ORGANIZER;CN="Cedar Bridge Foundation":MAILTO:contact@cedarbridgefoundation.org
END:VEVENT
BEGIN:VEVENT
DTSTART;TZID=America/New_York:20250517T110000
DTEND;TZID=America/New_York:20250517T123000
DTSTAMP:20260421T075310
CREATED:20250328T175514Z
LAST-MODIFIED:20250413T120515Z
UID:27612-1747479600-1747485000@cedarbridgefoundation.org
SUMMARY:Mother's Day Brunch
DESCRIPTION:𝐎𝐮𝐫 𝐄𝐚𝐬𝐭𝐞𝐫 𝐁𝐫𝐮𝐧𝐜𝐡 𝐡𝐚𝐬 𝐛𝐞𝐞𝐧 𝐫𝐞-𝐬𝐜𝐡𝐞𝐝𝐮𝐥𝐞𝐝 𝐢𝐧 𝐜𝐞𝐥𝐞𝐛𝐫𝐚𝐭𝐢𝐨𝐧 𝐨𝐟 𝐌𝐚𝐲 𝐚𝐧𝐝 𝐌𝐨𝐭𝐡𝐞𝐫’𝐬 𝐃𝐚𝐲 𝐋𝐮𝐧𝐜𝐡. \nJoin us for Mother’s Day Brunch\,  a joyful gathering that honors motherhood\, friendship\, and community!  This is a special May gathering for moms and mother figures to step into a vibrant morning filled with laughter\, connection\, and a touch of Spring magic. \nWear your favorite Spring Hat\, whether playful\, elegant\, or creatively unique\, and let your personality bloom!  Mother’s Day Brunch is to uplift\, inspire\, and bring women together.  It is a chance to relax\, recharge\, and connect with a supportive community\, enjoy meaningful moments with other amazing women who understand the journey of caregiving for an individual with exceptional needs and unique abilities.  Whether you’re a mom\, grandma\, aunt\, or caregiver\, you are welcome to join. \nFor more information about Cedar Bridge Foundation\, visit our website at www.cedarbridgefoundation.org
URL:https://cedarbridgefoundation.org/event/mothers-day-brunch/
LOCATION:Hi Tulip\, 400 Beach Village Dr.\, Flagler Beach\, FL\, 32136\, United States
CATEGORIES:Support
ATTACH;FMTTYPE=image/jpeg:https://cedarbridgefoundation.org/wp-content/uploads/2025/03/Mother-Day-Brunch-1-1.jpg
ORGANIZER;CN="Cedar Bridge Foundation":MAILTO:contact@cedarbridgefoundation.org
END:VEVENT
BEGIN:VEVENT
DTSTART;TZID=America/New_York:20250504T110000
DTEND;TZID=America/New_York:20250504T140000
DTSTAMP:20260421T075310
CREATED:20250404T122153Z
LAST-MODIFIED:20250501T123650Z
UID:27709-1746356400-1746367200@cedarbridgefoundation.org
SUMMARY:Car Wash Fundraiser
DESCRIPTION:Cedar Bridge Foundation is excited to invite the community to our upcoming Car Wash Fundraiser\, happening Sunday\, May 4th\,  a vibrant and meaningful event full of purpose\, fun\, and community spirit! In celebration of Cinco de Mayo weekend\, this festive fundraiser blends service with celebration\, offering families and friends an opportunity to support an incredible cause while getting their cars sparkling clean. The event is more than just a car wash\, it’s a chance to make a direct impact in the lives of adults with special needs by supporting the empowering programs and inclusive opportunities Cedar Bridge Foundation provides year-round. \nFrom developing life skills and promoting social engagement to advocating for independence and inclusion\, Cedar Bridge Foundation is dedicated to creating a world where every individual\, regardless of ability\, can thrive. Proceeds from the car wash will directly benefit our enrichment activities\, life skills training workshops\, fitness programs\, and social events designed to promote connection\, growth\, and joy. \nWe invite local residents\, businesses\, volunteers\, and supporters to come out\, roll up their sleeves\, and be part of something meaningful. Whether you’re driving through for a wash\, grabbing a a hot dog and refreshment\, or joining in with a sponge and smile\, your support helps make our mission possible. There will be music\, laughter\, and lots of bubbles as we work together to raise funds and awareness. \nVolunteers are welcome and needed! If you’re interested in helping out\, please email contact@cedarbridgefoundation.org. Let’s make a difference one car at a time while celebrating community\, and compassion. Join us and help Cedar Bridge Foundation continue to empower lives and expand possibilities! \n𝐓𝐡𝐢𝐬 𝐢𝐬 𝐚 𝐠𝐫𝐞𝐚𝐭 𝐨𝐩𝐩𝐨𝐫𝐭𝐮𝐧𝐢𝐭𝐲 𝐟𝐨𝐫 𝐬𝐨𝐜𝐢𝐚𝐥 𝐚𝐧𝐝 𝐥𝐢𝐟𝐞 𝐬𝐤𝐢𝐥𝐥𝐬 𝐝𝐞𝐯𝐞𝐥𝐨𝐩𝐦𝐞𝐧𝐭 𝐚𝐧𝐝 𝐠𝐫𝐨𝐰𝐭𝐡. 𝐀𝐧 𝐨𝐩𝐩𝐨𝐫𝐭𝐮𝐧𝐢𝐭𝐲 𝐭𝐨 𝐥𝐞𝐚𝐫𝐧 𝐜𝐮𝐬𝐭𝐨𝐦𝐞𝐫 𝐬𝐞𝐫𝐯𝐢𝐜𝐞 𝐬𝐤𝐢𝐥𝐥𝐬\, 𝐭𝐞𝐚𝐦𝐰𝐨𝐫𝐤 𝐬𝐤𝐢𝐥𝐥𝐬\, 𝐦𝐨𝐧𝐞𝐲 𝐬𝐤𝐢𝐥𝐥𝐬 𝐚𝐧𝐝 𝐦𝐨𝐫𝐞. \nFor more information about Cedar Bridge Foundation programs and events\, visit our website at www.cedarbridgefoundation.org
URL:https://cedarbridgefoundation.org/event/car-wash-fundraiser/
LOCATION:Auto Zone\, 4915 Belle Terre Pkwy\, Palm Coast\, FL\, 32137\, United States
CATEGORIES:Community Outreach,Donation,Social and Life Skills,Support
ATTACH;FMTTYPE=image/jpeg:https://cedarbridgefoundation.org/wp-content/uploads/2025/04/Carwash-FB-event-Cover.jpg
ORGANIZER;CN="Cedar Bridge Foundation":MAILTO:contact@cedarbridgefoundation.org
END:VEVENT
BEGIN:VEVENT
DTSTART;TZID=America/New_York:20250430T170000
DTEND;TZID=America/New_York:20250430T193000
DTSTAMP:20260421T075310
CREATED:20250329T121739Z
LAST-MODIFIED:20250329T122307Z
UID:27618-1746032400-1746041400@cedarbridgefoundation.org
SUMMARY:Autism Accceptance Karaoke at Tijuana Flats
DESCRIPTION:Karaoke Spirit Night at Tijuana Flats – Celebrating Autism Acceptance Month! \nJoin Cedar Bridge Foundation for a fun-filled evening of music\, community\, and purpose as we celebrate Autism Acceptance Month with Karaoke Spirit Night at Tijuana Flats! \nApril is Autism Acceptance Month — a time to honor the unique talents\, perspectives\, and contributions of individuals on the Autism Spectrum. At Cedar Bridge Foundation\, we believe in empowering people and expanding possibilities. Through advocacy\, social experiences\, and essential life skills programming\, we support individuals with Autism Spectrum Disorder (ASD) in leading confident\, independent lives. \nCome sing your heart out\, cheer on your friends\, and support a great cause! \nWhen you show our event flyer at the register\, 10% of your purchase will go directly toward funding programs that enrich the lives of individuals with ASD. From social skills workshops to community events\, your support helps make it all possible. \nPLUS – all month long\, you can round up your purchase at Tijuana Flats in honor of Autism Acceptance Month. Every extra cent supports our mission to build a more supportive and understanding community. \nWhether you’re a karaoke star or just love a good taco\, this is a night for fun\, fellowship\, and awareness! \nBring your friends\, bring your family—let’s make some NOISE! \nFor more information about Cedar Bridge Foundation programs\, visit our website at www.cedarbridgefoundation.org
URL:https://cedarbridgefoundation.org/event/autism-accceptance-karaoke-at-tijuana-flats/
LOCATION:Tijuana Flats\, 5890 State Rte 100 Unit 103\, Palm Coast\, FL\, 32137\, United States
CATEGORIES:Recreational,Social and Life Skills,Support
ATTACH;FMTTYPE=image/jpeg:https://cedarbridgefoundation.org/wp-content/uploads/2025/03/Autism-Acceptance-Month-Facebook-Post-Square.jpg
ORGANIZER;CN="Cedar Bridge Foundation":MAILTO:contact@cedarbridgefoundation.org
END:VEVENT
END:VCALENDAR