BEGIN:VCALENDAR
VERSION:2.0
PRODID:-//Cedar Bridge Foundation - ECPv6.15.20//NONSGML v1.0//EN
CALSCALE:GREGORIAN
METHOD:PUBLISH
X-WR-CALNAME:Cedar Bridge Foundation
X-ORIGINAL-URL:https://cedarbridgefoundation.org
X-WR-CALDESC:Events for Cedar Bridge Foundation
REFRESH-INTERVAL;VALUE=DURATION:PT1H
X-Robots-Tag:noindex
X-PUBLISHED-TTL:PT1H
BEGIN:VTIMEZONE
TZID:America/New_York
BEGIN:DAYLIGHT
TZOFFSETFROM:-0500
TZOFFSETTO:-0400
TZNAME:EDT
DTSTART:20250309T070000
END:DAYLIGHT
BEGIN:STANDARD
TZOFFSETFROM:-0400
TZOFFSETTO:-0500
TZNAME:EST
DTSTART:20251102T060000
END:STANDARD
BEGIN:DAYLIGHT
TZOFFSETFROM:-0500
TZOFFSETTO:-0400
TZNAME:EDT
DTSTART:20260308T070000
END:DAYLIGHT
BEGIN:STANDARD
TZOFFSETFROM:-0400
TZOFFSETTO:-0500
TZNAME:EST
DTSTART:20261101T060000
END:STANDARD
BEGIN:DAYLIGHT
TZOFFSETFROM:-0500
TZOFFSETTO:-0400
TZNAME:EDT
DTSTART:20270314T070000
END:DAYLIGHT
BEGIN:STANDARD
TZOFFSETFROM:-0400
TZOFFSETTO:-0500
TZNAME:EST
DTSTART:20271107T060000
END:STANDARD
END:VTIMEZONE
BEGIN:VEVENT
DTSTART;TZID=America/New_York:20260423T123000
DTEND;TZID=America/New_York:20260423T143000
DTSTAMP:20260421T054620
CREATED:20260317T175326Z
LAST-MODIFIED:20260317T175326Z
UID:32119-1776947400-1776954600@cedarbridgefoundation.org
SUMMARY:Bowling For Adults-April 23 2026
DESCRIPTION:Date: April 23\, 2026 Time: 12:30pm-2:30pm (Appx ending time) \nBowling Fun for Adults with Exceptional needs – A Welcoming and Inclusive Experience! Join Cedar Bridge Foundation’s Bowling Day for a fun-filled experience where adults with special needs can socialize\, make friends\, and create lasting memories. Our welcoming space brings individuals of all abilities together to enjoy the game and build connections in a supportive environment. At Cedar Bridge Foundation\, we provide enriching experiences that boost confidence\, enhance social skills\, and strengthen community bonds. Our bowling events cater to all skill levels\, ensuring that both experienced bowlers and first-timers feel encouraged and supported. Bowling isn’t just about the game—it’s about making meaningful friendships\, sharing laughter\, and feeling a sense of belonging. \nThis event gives participants a chance to interact\, stay active\, and celebrate achievements in a stress-free\, inclusive setting. Every week\, our bowling sessions create an inviting atmosphere where participants feel comfortable\, valued\, and encouraged. Players get to meet new people\, develop friendships\, and engage in a lively and friendly environment. Bowling offers a fun way to stay active while improving coordination and movement. Each game brings excitement\, from rolling a perfect strike to cheering for friends\, and every moment adds to an unforgettable experience. \nHosted by CBF this is a nonsponsored event: cost is $4.50 per game includes shoes; please pay the bowling alley at the event. Participants can play 1 or 2 games\, or simply come to hangout and have fun! Palm Coast Lanes website: https://palmcoastlanes.com/ To learn more about Cedar Bridge Foundation programs: https://cedarbridgefoundation.org/  
URL:https://cedarbridgefoundation.org/event/bowling-for-adults-april-23-2026/
LOCATION:Palm Coast Bowling Lanes\, 11 Old Kings Rd N\, Palm Coast\, FL\, 32137\, United States
CATEGORIES:Recreational,Social and Life Skills
ATTACH;FMTTYPE=image/jpeg:https://cedarbridgefoundation.org/wp-content/uploads/2025/07/WeeklyBowling.jpg
ORGANIZER;CN="Cedar Bridge Foundation":MAILTO:contact@cedarbridgefoundation.org
END:VEVENT
BEGIN:VEVENT
DTSTART;TZID=America/New_York:20260427T100000
DTEND;TZID=America/New_York:20260427T110000
DTSTAMP:20260421T054620
CREATED:20260226T155326Z
LAST-MODIFIED:20260403T115825Z
UID:32027-1777284000-1777287600@cedarbridgefoundation.org
SUMMARY:Bridge to Fitness Walking Club March 27 2026
DESCRIPTION:April 27\, 2026   Time: 10:00am  Graham Swamp Preserve West in Palm Coast: 1125 Old Kings Rd. North  REGISTRATION: https://www.zeffy.com/en-US/ticketing/bridge-to-fitness-walking-club-april \nThe Walking Club is part of our Bridge to Fitness program\, created to support the health and well-being of adults with developmental disabilities. Each walk provides a safe and welcoming space to get moving\, enjoy the outdoors\, and connect with friends. By exploring local parks and trails together\, participants not only build strength and stamina but also boost confidence\, reduce stress\, and strengthen their sense of community. It’s about fitness\, friendship\, and fellowship—one step at a time. \nJoin us as we promote fitness\, inclusion\, and community empowerment. \nFor more informationa about CBF\, visit our website at www.cedarbridgefoundation.org
URL:https://cedarbridgefoundation.org/event/bridge-to-fitness-walking-club-april-27-2026/
LOCATION:Graham Swamp Preserve West\, 1125 Old Kings Rd N\, Palm Coast\, FL\, 32137\, United States
CATEGORIES:Community Outreach,Recreational,Social and Life Skills
ATTACH;FMTTYPE=image/jpeg:https://cedarbridgefoundation.org/wp-content/uploads/2025/07/Webiste-featured-photo-Bridge-to-Fitness-Walking-Club.jpg
ORGANIZER;CN="Cedar Bridge Foundation":MAILTO:contact@cedarbridgefoundation.org
END:VEVENT
BEGIN:VEVENT
DTSTART;TZID=America/New_York:20260430T123000
DTEND;TZID=America/New_York:20260430T143000
DTSTAMP:20260421T054620
CREATED:20260317T175404Z
LAST-MODIFIED:20260317T175404Z
UID:32121-1777552200-1777559400@cedarbridgefoundation.org
SUMMARY:Bowling For Adults-April 30 2026
DESCRIPTION:Date: April 30\, 2026 Time: 12:30pm-2:30pm (Appx ending time) \nBowling Fun for Adults with Exceptional needs – A Welcoming and Inclusive Experience! Join Cedar Bridge Foundation’s Bowling Day for a fun-filled experience where adults with special needs can socialize\, make friends\, and create lasting memories. Our welcoming space brings individuals of all abilities together to enjoy the game and build connections in a supportive environment. At Cedar Bridge Foundation\, we provide enriching experiences that boost confidence\, enhance social skills\, and strengthen community bonds. Our bowling events cater to all skill levels\, ensuring that both experienced bowlers and first-timers feel encouraged and supported. Bowling isn’t just about the game—it’s about making meaningful friendships\, sharing laughter\, and feeling a sense of belonging. \nThis event gives participants a chance to interact\, stay active\, and celebrate achievements in a stress-free\, inclusive setting. Every week\, our bowling sessions create an inviting atmosphere where participants feel comfortable\, valued\, and encouraged. Players get to meet new people\, develop friendships\, and engage in a lively and friendly environment. Bowling offers a fun way to stay active while improving coordination and movement. Each game brings excitement\, from rolling a perfect strike to cheering for friends\, and every moment adds to an unforgettable experience. \nHosted by CBF this is a nonsponsored event: cost is $4.50 per game includes shoes; please pay the bowling alley at the event. Participants can play 1 or 2 games\, or simply come to hangout and have fun! Palm Coast Lanes website: https://palmcoastlanes.com/ To learn more about Cedar Bridge Foundation programs: https://cedarbridgefoundation.org/  
URL:https://cedarbridgefoundation.org/event/bowling-for-adults-april-30-2026/
LOCATION:Palm Coast Bowling Lanes\, 11 Old Kings Rd N\, Palm Coast\, FL\, 32137\, United States
CATEGORIES:Recreational,Social and Life Skills
ATTACH;FMTTYPE=image/jpeg:https://cedarbridgefoundation.org/wp-content/uploads/2025/07/WeeklyBowling.jpg
ORGANIZER;CN="Cedar Bridge Foundation":MAILTO:contact@cedarbridgefoundation.org
END:VEVENT
BEGIN:VEVENT
DTSTART;TZID=America/New_York:20260529T180000
DTEND;TZID=America/New_York:20260529T200000
DTSTAMP:20260421T054620
CREATED:20260419T113707Z
LAST-MODIFIED:20260419T113724Z
UID:32239-1780077600-1780084800@cedarbridgefoundation.org
SUMMARY:Community Potluck May 29 2026
DESCRIPTION:Registration: https://www.zeffy.com/en-US/ticketing/cedar-bridge-potluck-may–2026 \nThe Cedar Bridge Foundation Community Potluck Picnic is a joyful community gathering designed to bring people together through food\, friendship\, and shared experiences. Hosted by Cedar Bridge Foundation in Palm Coast\, Florida\, this special event welcomes individuals with developmental disabilities\, their families\, caregivers\, and community members for an evening of connection\, celebration\, and fun. \nJoin us on March 27 from 6:00 PM – 8:00 PM for the Cedar Bridge Foundation Potluck Picnic\, where everyone is invited to bring a favorite dish to share. Whether it is a cherished family recipe\, a homemade appetizer\, or a delicious dessert\, the potluck table will feature a variety of foods that reflect the spirit of community and togetherness. \nThe Cedar Bridge Foundation Community Potluck Picnic is more than just a meal. It is an opportunity to build friendships\, strengthen community bonds\, and create meaningful memories. Participants will enjoy music\, karaoke\, laughter\, and the welcoming atmosphere that Cedar Bridge Foundation strives to create for individuals of all abilities. \nFood has a special way of bringing people together\, and this community potluck provides the perfect setting to meet new friends\, reconnect with familiar faces\, and celebrate the joy of being part of a supportive network. Events like this help foster belonging while promoting the organization’s mission of empowering individuals with developmental disabilities. \nIn addition to great food and entertainment\, the evening will include birthday celebrations and opportunities to connect with others in the Cedar Bridge Foundation community. Whether you love cooking\, singing karaoke\, or simply spending time with others\, this event offers something for everyone. \nImportant Notice: For safety reasons\, please do not bring any shellfish or peanut products. \nFor more information about the Cedar Bridge Foundation Potluck Picnic and other community programs\, visit www.cedarbridgefoundation.org.
URL:https://cedarbridgefoundation.org/event/community-potluck-may-29-2026/
LOCATION:James Holland Memorial Park\, 18 Florida Park Dr N\, Palm Coast\, FL\, 32137\, United States
CATEGORIES:Community Outreach,Social and Life Skills,Support
ATTACH;FMTTYPE=image/png:https://cedarbridgefoundation.org/wp-content/uploads/2025/06/newsletter-photo.png
ORGANIZER;CN="Cedar Bridge Foundation":MAILTO:contact@cedarbridgefoundation.org
END:VEVENT
END:VCALENDAR