BEGIN:VCALENDAR
VERSION:2.0
PRODID:-//Cedar Bridge Foundation - ECPv6.15.20//NONSGML v1.0//EN
CALSCALE:GREGORIAN
METHOD:PUBLISH
X-WR-CALNAME:Cedar Bridge Foundation
X-ORIGINAL-URL:https://cedarbridgefoundation.org
X-WR-CALDESC:Events for Cedar Bridge Foundation
REFRESH-INTERVAL;VALUE=DURATION:PT1H
X-Robots-Tag:noindex
X-PUBLISHED-TTL:PT1H
BEGIN:VTIMEZONE
TZID:America/New_York
BEGIN:DAYLIGHT
TZOFFSETFROM:-0500
TZOFFSETTO:-0400
TZNAME:EDT
DTSTART:20250309T070000
END:DAYLIGHT
BEGIN:STANDARD
TZOFFSETFROM:-0400
TZOFFSETTO:-0500
TZNAME:EST
DTSTART:20251102T060000
END:STANDARD
BEGIN:DAYLIGHT
TZOFFSETFROM:-0500
TZOFFSETTO:-0400
TZNAME:EDT
DTSTART:20260308T070000
END:DAYLIGHT
BEGIN:STANDARD
TZOFFSETFROM:-0400
TZOFFSETTO:-0500
TZNAME:EST
DTSTART:20261101T060000
END:STANDARD
BEGIN:DAYLIGHT
TZOFFSETFROM:-0500
TZOFFSETTO:-0400
TZNAME:EDT
DTSTART:20270314T070000
END:DAYLIGHT
BEGIN:STANDARD
TZOFFSETFROM:-0400
TZOFFSETTO:-0500
TZNAME:EST
DTSTART:20271107T060000
END:STANDARD
END:VTIMEZONE
BEGIN:VEVENT
DTSTART;TZID=America/New_York:20260126T013000
DTEND;TZID=America/New_York:20260126T150000
DTSTAMP:20260425T065925
CREATED:20260120T160907Z
LAST-MODIFIED:20260120T160907Z
UID:31689-1769391000-1769439600@cedarbridgefoundation.org
SUMMARY:Winter Bridge to the Future: Cooking with Confidence Advance #2
DESCRIPTION:Date: January 26 Time: 1:30pm-3:00pm Pre-registration/Applications required. Class for Winter Session has closed. New Class will start in Summer. Registration open soon for Summer Session. Cooking with Confidence – Cohort B (Intermediate/Advance Level)- Session #2 \nBridge to the Future: Cooking with Confidence – Cohort B is an 8-week intermediate cooking program for adults with developmental disabilities who already have experience in the kitchen. This hands-on life-skills class empowers participants to deepen their culinary abilities while strengthening independence\, communication\, and teamwork. \nEach week spotlights a new theme—ranging from breakfast-for-dinner to desserts and soups—while weaving in ServSafe food-safety practices\, recipe comprehension\, and essential techniques. Guided by trained volunteers\, participants collaborate to plan\, prepare\, and enjoy delicious meals in a supportive environment. \nThere is no cost for participants.  \nProgram Information: https://cedarbridgefoundation.org/cooking-with-confidence/
URL:https://cedarbridgefoundation.org/event/winter-bridge-to-the-future-cooking-with-confidence-advance-2/
CATEGORIES:Education,Social and Life Skills
ATTACH;FMTTYPE=image/jpeg:https://cedarbridgefoundation.org/wp-content/uploads/2025/06/Cooking-with-Confidence-Facebook-Post-Square.jpg
END:VEVENT
BEGIN:VEVENT
DTSTART;TZID=America/New_York:20260130T133000
DTEND;TZID=America/New_York:20260130T150000
DTSTAMP:20260425T065925
CREATED:20260120T153016Z
LAST-MODIFIED:20260120T164633Z
UID:31669-1769779800-1769785200@cedarbridgefoundation.org
SUMMARY:2026 Winter Bridge to the Future: Cooking with Confidence Beginners 4
DESCRIPTION:Date: January 30\, 2026 Time: 1:30pm-3:00pm- Pre-registration/Applications required. Class for Winter Session has closed. New Class will start in Summer. Registration open soon for Summer Session. Cooking with Confidence – Beginner’s Level- Session #4 \nBridge to the Future: Cooking with Confidence – Cohort A is a Beginner’s Class is an 8-week introductory cooking program designed for adults with developmental disabilities who are new to the kitchen or have limited experience. This hands-on life skills course focuses on building foundational cooking knowledge while promoting independence\, communication\, and teamwork. \nEach week introduces a new meal theme—such as breakfast\, lunch\, snacks\, or simple desserts—while teaching essential kitchen safety\, basic food prep techniques\, and ServSafe food handling practices. Participants work together in a supportive environment\, guided by trained volunteers\, to build confidence and enjoy the fun of cooking. \nThis Program is a pilot program. There is no cost for participants.  \nProgram Information: https://cedarbridgefoundation.org/cooking-with-confidence/
URL:https://cedarbridgefoundation.org/event/2026-winter-bridge-to-the-future-cooking-with-confidence-beginners-4/
CATEGORIES:Education,Social and Life Skills
ATTACH;FMTTYPE=image/jpeg:https://cedarbridgefoundation.org/wp-content/uploads/2025/06/Cooking-with-Confidence-Facebook-Post-Square.jpg
END:VEVENT
BEGIN:VEVENT
DTSTART;TZID=America/New_York:20260202T013000
DTEND;TZID=America/New_York:20260202T150000
DTSTAMP:20260425T065925
CREATED:20260120T161021Z
LAST-MODIFIED:20260120T163219Z
UID:31691-1769995800-1770044400@cedarbridgefoundation.org
SUMMARY:Winter Bridge to the Future: Cooking with Confidence Advance #3
DESCRIPTION:Date: February 2\, 2026  Time: 1:30pm-3:00pm Pre-registration/Applications required. Class for Winter Session has closed. New Class will start in Summer. Registration open soon for Summer Session. Cooking with Confidence – Cohort B (Intermediate/Advance Level)- Session #3 \nBridge to the Future: Cooking with Confidence – Cohort B is an 8-week intermediate cooking program for adults with developmental disabilities who already have experience in the kitchen. This hands-on life-skills class empowers participants to deepen their culinary abilities while strengthening independence\, communication\, and teamwork. \nEach week spotlights a new theme—ranging from breakfast-for-dinner to desserts and soups—while weaving in ServSafe food-safety practices\, recipe comprehension\, and essential techniques. Guided by trained volunteers\, participants collaborate to plan\, prepare\, and enjoy delicious meals in a supportive environment. \nThere is no cost for participants.  \nProgram Information: https://cedarbridgefoundation.org/cooking-with-confidence/
URL:https://cedarbridgefoundation.org/event/winter-bridge-to-the-future-cooking-with-confidence-advance-3/
CATEGORIES:Education,Social and Life Skills
ATTACH;FMTTYPE=image/jpeg:https://cedarbridgefoundation.org/wp-content/uploads/2025/06/Cooking-with-Confidence-Facebook-Post-Square.jpg
END:VEVENT
BEGIN:VEVENT
DTSTART;TZID=America/New_York:20260206T133000
DTEND;TZID=America/New_York:20260206T150000
DTSTAMP:20260425T065925
CREATED:20260120T153123Z
LAST-MODIFIED:20260120T164540Z
UID:31671-1770384600-1770390000@cedarbridgefoundation.org
SUMMARY:2026 Winter Bridge to the Future: Cooking with Confidence Beginners 5
DESCRIPTION:Date: February 6\, 2026 Time: 1:30pm-3:00pm- Pre-registration/Applications required. Class for Winter Session has closed. New Class will start in Summer. Registration open soon for Summer Session. Cooking with Confidence – Beginner’s Level- Session #5 \nBridge to the Future: Cooking with Confidence – Cohort A is a Beginner’s Class is an 8-week introductory cooking program designed for adults with developmental disabilities who are new to the kitchen or have limited experience. This hands-on life skills course focuses on building foundational cooking knowledge while promoting independence\, communication\, and teamwork. \nEach week introduces a new meal theme—such as breakfast\, lunch\, snacks\, or simple desserts—while teaching essential kitchen safety\, basic food prep techniques\, and ServSafe food handling practices. Participants work together in a supportive environment\, guided by trained volunteers\, to build confidence and enjoy the fun of cooking. \nThere is no cost for participants.  \nProgram Information: https://cedarbridgefoundation.org/cooking-with-confidence/
URL:https://cedarbridgefoundation.org/event/2026-winter-bridge-to-the-future-cooking-with-confidence-beginners-5/
CATEGORIES:Education,Social and Life Skills
ATTACH;FMTTYPE=image/jpeg:https://cedarbridgefoundation.org/wp-content/uploads/2025/06/Cooking-with-Confidence-Facebook-Post-Square.jpg
END:VEVENT
BEGIN:VEVENT
DTSTART;TZID=America/New_York:20260209T013000
DTEND;TZID=America/New_York:20260209T150000
DTSTAMP:20260425T065925
CREATED:20260120T163449Z
LAST-MODIFIED:20260120T163449Z
UID:31693-1770600600-1770649200@cedarbridgefoundation.org
SUMMARY:Winter Bridge to the Future: Cooking with Confidence Advance #4
DESCRIPTION:Date: February 9\, 2026  Time: 1:30pm-3:00pm Pre-registration/Applications required. Class for Winter Session has closed. New Class will start in Summer. Registration open soon for Summer Session. Cooking with Confidence – Cohort B (Intermediate/Advance Level)- Session #4 \nBridge to the Future: Cooking with Confidence – Cohort B is an 8-week intermediate cooking program for adults with developmental disabilities who already have experience in the kitchen. This hands-on life-skills class empowers participants to deepen their culinary abilities while strengthening independence\, communication\, and teamwork. \nEach week spotlights a new theme—ranging from breakfast-for-dinner to desserts and soups—while weaving in ServSafe food-safety practices\, recipe comprehension\, and essential techniques. Guided by trained volunteers\, participants collaborate to plan\, prepare\, and enjoy delicious meals in a supportive environment. \nThere is no cost for participants.  \nProgram Information: https://cedarbridgefoundation.org/cooking-with-confidence/
URL:https://cedarbridgefoundation.org/event/winter-bridge-to-the-future-cooking-with-confidence-advance-4/
CATEGORIES:Education,Social and Life Skills
ATTACH;FMTTYPE=image/jpeg:https://cedarbridgefoundation.org/wp-content/uploads/2025/06/Cooking-with-Confidence-Facebook-Post-Square.jpg
END:VEVENT
BEGIN:VEVENT
DTSTART;TZID=America/New_York:20260220T133000
DTEND;TZID=America/New_York:20260220T150000
DTSTAMP:20260425T065925
CREATED:20260120T153208Z
LAST-MODIFIED:20260120T164515Z
UID:31673-1771594200-1771599600@cedarbridgefoundation.org
SUMMARY:2026 Winter Bridge to the Future: Cooking with Confidence Beginners 6
DESCRIPTION:Date: February 20\, 2026 Time: 1:30pm-3:00pm- Pre-registration/Applications required. Class for Winter Session has closed. New Class will start in Summer. Registration open soon for Summer Session. Cooking with Confidence – Beginner’s Level- Session #6 \nBridge to the Future: Cooking with Confidence – Cohort A is a Beginner’s Class is an 8-week introductory cooking program designed for adults with developmental disabilities who are new to the kitchen or have limited experience. This hands-on life skills course focuses on building foundational cooking knowledge while promoting independence\, communication\, and teamwork. \nEach week introduces a new meal theme—such as breakfast\, lunch\, snacks\, or simple desserts—while teaching essential kitchen safety\, basic food prep techniques\, and ServSafe food handling practices. Participants work together in a supportive environment\, guided by trained volunteers\, to build confidence and enjoy the fun of cooking. \nThere is no cost for participants.  \nProgram Information: https://cedarbridgefoundation.org/cooking-with-confidence/
URL:https://cedarbridgefoundation.org/event/2026-winter-bridge-to-the-future-cooking-with-confidence-beginners-6/
CATEGORIES:Education,Social and Life Skills
ATTACH;FMTTYPE=image/jpeg:https://cedarbridgefoundation.org/wp-content/uploads/2025/06/Cooking-with-Confidence-Facebook-Post-Square.jpg
END:VEVENT
BEGIN:VEVENT
DTSTART;TZID=America/New_York:20260223T013000
DTEND;TZID=America/New_York:20260223T150000
DTSTAMP:20260425T065925
CREATED:20260120T163946Z
LAST-MODIFIED:20260120T163946Z
UID:31695-1771810200-1771858800@cedarbridgefoundation.org
SUMMARY:Winter Bridge to the Future: Cooking with Confidence Advance #5
DESCRIPTION:Date: February 23\, 2026  Time: 1:30pm-3:00pm Pre-registration/Applications required. Class for Winter Session has closed. New Class will start in Summer. Registration open soon for Summer Session. Cooking with Confidence – Cohort B (Intermediate/Advance Level)- Session #5 \nBridge to the Future: Cooking with Confidence – Cohort B is an 8-week intermediate cooking program for adults with developmental disabilities who already have experience in the kitchen. This hands-on life-skills class empowers participants to deepen their culinary abilities while strengthening independence\, communication\, and teamwork. \nEach week spotlights a new theme—ranging from breakfast-for-dinner to desserts and soups—while weaving in ServSafe food-safety practices\, recipe comprehension\, and essential techniques. Guided by trained volunteers\, participants collaborate to plan\, prepare\, and enjoy delicious meals in a supportive environment. \nThere is no cost for participants.  \nProgram Information: https://cedarbridgefoundation.org/cooking-with-confidence/
URL:https://cedarbridgefoundation.org/event/winter-bridge-to-the-future-cooking-with-confidence-advance-5/
CATEGORIES:Education,Social and Life Skills
ATTACH;FMTTYPE=image/jpeg:https://cedarbridgefoundation.org/wp-content/uploads/2025/06/Cooking-with-Confidence-Facebook-Post-Square.jpg
END:VEVENT
BEGIN:VEVENT
DTSTART;TZID=America/New_York:20260227T133000
DTEND;TZID=America/New_York:20260227T150000
DTSTAMP:20260425T065925
CREATED:20260120T154359Z
LAST-MODIFIED:20260120T164358Z
UID:31685-1772199000-1772204400@cedarbridgefoundation.org
SUMMARY:2026 Winter Bridge to the Future: Cooking with Confidence Beginners 7
DESCRIPTION:Date: February 27\, 2026 Time: 1:30pm-3:00pm- Pre-registration/Applications required. Class for Winter Session has closed. New Class will start in Summer. Registration open soon for Summer Session. Cooking with Confidence – Beginner’s Level- Session #7 \nBridge to the Future: Cooking with Confidence – Cohort A is a Beginner’s Class is an 8-week introductory cooking program designed for adults with developmental disabilities who are new to the kitchen or have limited experience. This hands-on life skills course focuses on building foundational cooking knowledge while promoting independence\, communication\, and teamwork. \nEach week introduces a new meal theme—such as breakfast\, lunch\, snacks\, or simple desserts—while teaching essential kitchen safety\, basic food prep techniques\, and ServSafe food handling practices. Participants work together in a supportive environment\, guided by trained volunteers\, to build confidence and enjoy the fun of cooking. \nThere is no cost for participants.  \nProgram Information: https://cedarbridgefoundation.org/cooking-with-confidence/
URL:https://cedarbridgefoundation.org/event/2026-winter-bridge-to-the-future-cooking-with-confidence-beginners-7/
CATEGORIES:Education,Social and Life Skills
ATTACH;FMTTYPE=image/jpeg:https://cedarbridgefoundation.org/wp-content/uploads/2025/06/Cooking-with-Confidence-Facebook-Post-Square.jpg
END:VEVENT
BEGIN:VEVENT
DTSTART;TZID=America/New_York:20260302T013000
DTEND;TZID=America/New_York:20260302T150000
DTSTAMP:20260425T065925
CREATED:20260120T164135Z
LAST-MODIFIED:20260120T164135Z
UID:31697-1772415000-1772463600@cedarbridgefoundation.org
SUMMARY:Winter Bridge to the Future: Cooking with Confidence Advance #6
DESCRIPTION:Date: March 2\, 2026  Time: 1:30pm-3:00pm Pre-registration/Applications required. Class for Winter Session has closed. New Class will start in Summer. Registration open soon for Summer Session. Cooking with Confidence – Cohort B (Intermediate/Advance Level)- Session #6 \nBridge to the Future: Cooking with Confidence – Cohort B is an 8-week intermediate cooking program for adults with developmental disabilities who already have experience in the kitchen. This hands-on life-skills class empowers participants to deepen their culinary abilities while strengthening independence\, communication\, and teamwork. \nEach week spotlights a new theme—ranging from breakfast-for-dinner to desserts and soups—while weaving in ServSafe food-safety practices\, recipe comprehension\, and essential techniques. Guided by trained volunteers\, participants collaborate to plan\, prepare\, and enjoy delicious meals in a supportive environment. \nThere is no cost for participants.  \nProgram Information: https://cedarbridgefoundation.org/cooking-with-confidence/
URL:https://cedarbridgefoundation.org/event/winter-bridge-to-the-future-cooking-with-confidence-advance-6/
CATEGORIES:Education,Social and Life Skills
ATTACH;FMTTYPE=image/jpeg:https://cedarbridgefoundation.org/wp-content/uploads/2025/06/Cooking-with-Confidence-Facebook-Post-Square.jpg
END:VEVENT
BEGIN:VEVENT
DTSTART;TZID=America/New_York:20260306T133000
DTEND;TZID=America/New_York:20260306T150000
DTSTAMP:20260425T065925
CREATED:20260120T153253Z
LAST-MODIFIED:20260120T164426Z
UID:31675-1772803800-1772809200@cedarbridgefoundation.org
SUMMARY:2026 Winter Bridge to the Future: Cooking with Confidence Beginners 8
DESCRIPTION:Date: March 6\, 2026 Time: 1:30pm-3:00pm- Pre-registration/Applications required. Class for Winter Session has closed. New Class will start in Summer. Registration open soon for Summer Session. Cooking with Confidence – Beginner’s Level- Session #8 \nBridge to the Future: Cooking with Confidence – Cohort A is a Beginner’s Class is an 8-week introductory cooking program designed for adults with developmental disabilities who are new to the kitchen or have limited experience. This hands-on life skills course focuses on building foundational cooking knowledge while promoting independence\, communication\, and teamwork. \nEach week introduces a new meal theme—such as breakfast\, lunch\, snacks\, or simple desserts—while teaching essential kitchen safety\, basic food prep techniques\, and ServSafe food handling practices. Participants work together in a supportive environment\, guided by trained volunteers\, to build confidence and enjoy the fun of cooking. \nThere is no cost for participants.  \nProgram Information: https://cedarbridgefoundation.org/cooking-with-confidence/
URL:https://cedarbridgefoundation.org/event/2026-winter-bridge-to-the-future-cooking-with-confidence-beginners-8/
CATEGORIES:Education,Social and Life Skills
ATTACH;FMTTYPE=image/jpeg:https://cedarbridgefoundation.org/wp-content/uploads/2025/06/Cooking-with-Confidence-Facebook-Post-Square.jpg
END:VEVENT
BEGIN:VEVENT
DTSTART;TZID=America/New_York:20260309T013000
DTEND;TZID=America/New_York:20260309T150000
DTSTAMP:20260425T065925
CREATED:20260120T164222Z
LAST-MODIFIED:20260120T164222Z
UID:31699-1773019800-1773068400@cedarbridgefoundation.org
SUMMARY:Winter Bridge to the Future: Cooking with Confidence Advance #7
DESCRIPTION:Date: March 9\, 2026  Time: 1:30pm-3:00pm Pre-registration/Applications required. Class for Winter Session has closed. New Class will start in Summer. Registration open soon for Summer Session. Cooking with Confidence – Cohort B (Intermediate/Advance Level)- Session #7 \nBridge to the Future: Cooking with Confidence – Cohort B is an 8-week intermediate cooking program for adults with developmental disabilities who already have experience in the kitchen. This hands-on life-skills class empowers participants to deepen their culinary abilities while strengthening independence\, communication\, and teamwork. \nEach week spotlights a new theme—ranging from breakfast-for-dinner to desserts and soups—while weaving in ServSafe food-safety practices\, recipe comprehension\, and essential techniques. Guided by trained volunteers\, participants collaborate to plan\, prepare\, and enjoy delicious meals in a supportive environment. \nThere is no cost for participants.  \nProgram Information: https://cedarbridgefoundation.org/cooking-with-confidence/
URL:https://cedarbridgefoundation.org/event/winter-bridge-to-the-future-cooking-with-confidence-advance-7/
CATEGORIES:Education,Social and Life Skills
ATTACH;FMTTYPE=image/jpeg:https://cedarbridgefoundation.org/wp-content/uploads/2025/06/Cooking-with-Confidence-Facebook-Post-Square.jpg
END:VEVENT
BEGIN:VEVENT
DTSTART;TZID=America/New_York:20260316T013000
DTEND;TZID=America/New_York:20260316T150000
DTSTAMP:20260425T065925
CREATED:20260120T164312Z
LAST-MODIFIED:20260120T164312Z
UID:31701-1773624600-1773673200@cedarbridgefoundation.org
SUMMARY:Winter Bridge to the Future: Cooking with Confidence Advance #8
DESCRIPTION:Date: March 16\, 2026  Time: 1:30pm-3:00pm Pre-registration/Applications required. Class for Winter Session has closed. New Class will start in Summer. Registration open soon for Summer Session. Cooking with Confidence – Cohort B (Intermediate/Advance Level)- Session #8 \nBridge to the Future: Cooking with Confidence – Cohort B is an 8-week intermediate cooking program for adults with developmental disabilities who already have experience in the kitchen. This hands-on life-skills class empowers participants to deepen their culinary abilities while strengthening independence\, communication\, and teamwork. \nEach week spotlights a new theme—ranging from breakfast-for-dinner to desserts and soups—while weaving in ServSafe food-safety practices\, recipe comprehension\, and essential techniques. Guided by trained volunteers\, participants collaborate to plan\, prepare\, and enjoy delicious meals in a supportive environment. \nThere is no cost for participants.  \nProgram Information: https://cedarbridgefoundation.org/cooking-with-confidence/
URL:https://cedarbridgefoundation.org/event/winter-bridge-to-the-future-cooking-with-confidence-advance-8/
CATEGORIES:Education,Social and Life Skills
ATTACH;FMTTYPE=image/jpeg:https://cedarbridgefoundation.org/wp-content/uploads/2025/06/Cooking-with-Confidence-Facebook-Post-Square.jpg
END:VEVENT
END:VCALENDAR