BEGIN:VCALENDAR
VERSION:2.0
PRODID:-//Cedar Bridge Foundation - ECPv6.15.20//NONSGML v1.0//EN
CALSCALE:GREGORIAN
METHOD:PUBLISH
X-WR-CALNAME:Cedar Bridge Foundation
X-ORIGINAL-URL:https://cedarbridgefoundation.org
X-WR-CALDESC:Events for Cedar Bridge Foundation
REFRESH-INTERVAL;VALUE=DURATION:PT1H
X-Robots-Tag:noindex
X-PUBLISHED-TTL:PT1H
BEGIN:VTIMEZONE
TZID:America/New_York
BEGIN:DAYLIGHT
TZOFFSETFROM:-0500
TZOFFSETTO:-0400
TZNAME:EDT
DTSTART:20230312T070000
END:DAYLIGHT
BEGIN:STANDARD
TZOFFSETFROM:-0400
TZOFFSETTO:-0500
TZNAME:EST
DTSTART:20231105T060000
END:STANDARD
BEGIN:DAYLIGHT
TZOFFSETFROM:-0500
TZOFFSETTO:-0400
TZNAME:EDT
DTSTART:20240310T070000
END:DAYLIGHT
BEGIN:STANDARD
TZOFFSETFROM:-0400
TZOFFSETTO:-0500
TZNAME:EST
DTSTART:20241103T060000
END:STANDARD
BEGIN:DAYLIGHT
TZOFFSETFROM:-0500
TZOFFSETTO:-0400
TZNAME:EDT
DTSTART:20250309T070000
END:DAYLIGHT
BEGIN:STANDARD
TZOFFSETFROM:-0400
TZOFFSETTO:-0500
TZNAME:EST
DTSTART:20251102T060000
END:STANDARD
BEGIN:DAYLIGHT
TZOFFSETFROM:-0500
TZOFFSETTO:-0400
TZNAME:EDT
DTSTART:20260308T070000
END:DAYLIGHT
BEGIN:STANDARD
TZOFFSETFROM:-0400
TZOFFSETTO:-0500
TZNAME:EST
DTSTART:20261101T060000
END:STANDARD
BEGIN:DAYLIGHT
TZOFFSETFROM:-0500
TZOFFSETTO:-0400
TZNAME:EDT
DTSTART:20270314T070000
END:DAYLIGHT
BEGIN:STANDARD
TZOFFSETFROM:-0400
TZOFFSETTO:-0500
TZNAME:EST
DTSTART:20271107T060000
END:STANDARD
END:VTIMEZONE
BEGIN:VEVENT
DTSTART;TZID=America/New_York:20260418T090000
DTEND;TZID=America/New_York:20260418T130000
DTSTAMP:20260421T075956
CREATED:20250415T163344Z
LAST-MODIFIED:20251124T125109Z
UID:27730-1776502800-1776517200@cedarbridgefoundation.org
SUMMARY:Cedar Bridge Autism Walk/Run & Family Fun Day
DESCRIPTION:𝐂𝐞𝐝𝐚𝐫 𝐁𝐫𝐢𝐝𝐠𝐞 𝐅𝐨𝐮𝐧𝐝𝐚𝐭𝐢𝐨𝐧’𝐬 𝐅𝐢𝐫𝐬𝐭 𝐀𝐧𝐧𝐮𝐚𝐥 𝐀𝐮𝐭𝐢𝐬𝐦 𝐖𝐚𝐥𝐤 & 𝐅𝐚𝐦𝐢𝐥𝐲 𝐅𝐮𝐧 𝐃𝐚𝐲\nSaturday\, April 18\, 2026 9am-1pmRegister to walk/run: https://www.zeffy.com/en-US/ticketing/autism-awareness-walk-and-fun-day\nSponsor the event: https://www.zeffy.com/en-US/ticketing/sponsor-cbf-annual-autism-awareness-walk-and-fun-day\nBecome a Vendor: https://forms.gle/5L8ykmRWcCpJ1RUL7\n\n\nYou are invited to walk with us for Autism Awareness Month!  Autism Awareness is about understanding\, acceptance\, and integration. It is about recognizing strengths\, listening to the voices of indivdiuals with autism\, reducing stigma\, and supporting families who are dealing with autism.  Join us as we come together in solidarity and celebrate our community; the day will not only include a walk/run\, but also feature local vendors and a family friendly environment.  Proceeds support Cedar Bridge Foundation programs that empower individuals with autism and developmental disabilities. \nThis is a self-timed event. Participants are welcome to track their own pace. Participant bibs will be distributed at a designated time and location to be announced.\n \nABOUT US \nCedar Bridge Foundation is a 501(c)(3) nonprofit organization founded by two mothers of adults with exceptional needs and unique abilities. CBF provides advocacy\, support\, and opportunities for individuals with autism and related developmental disabilities through social programs\, vocational skill-building\, and life-skills training. We believe that every individual deserves to be seen\, heard\, included\, and empowered. Our mission is to bridge the gap between ability and opportunity by creating a community where people of all abilities can thrive\, build friendships\, develop confidence\, and participate fully in meaningful experiences. \nProceeds from our Autism Awareness Walk/Run directly support our programs\, helping us continue to provide inclusive activities\, life-enriching workshops\, and essential resources for individuals and families in our community. \n\nLet’s walk\, play\, and make a difference—together.\n\nFor more information about Cedar Bridge Foundation programs and events: www.cedarbridgefoundation.org
URL:https://cedarbridgefoundation.org/event/cedar-bridge-autism-walk-run-family-fun-day/
LOCATION:Flagler Beach Veteran’s Park\, 101 N Ocean Shore Blvd\, Flagler Beach\, FL\, 32136\, United States
CATEGORIES:Advocacy,Community Outreach,Donation,Support
ATTACH;FMTTYPE=image/webp:https://cedarbridgefoundation.org/wp-content/uploads/2025/11/Official-Logo-Autism-WalkRun-4K.webp
ORGANIZER;CN="Cedar Bridge Foundation":MAILTO:contact@cedarbridgefoundation.org
END:VEVENT
BEGIN:VEVENT
DTSTART;TZID=America/New_York:20251110T080000
DTEND;TZID=America/New_York:20251110T150000
DTSTAMP:20260421T075956
CREATED:20251026T132541Z
LAST-MODIFIED:20251026T132647Z
UID:31111-1762761600-1762786800@cedarbridgefoundation.org
SUMMARY:2025 Bridging the Gap Golf Tournament
DESCRIPTION:Golfer & Sponosrship Registration: https://www.zeffy.com/en-US/ticketing/charity-golf-tournament \nSingle Golfers: $160. Foursomes $600 \nJoin us for Cedar Bridge Foundation’s Bridging the Gap Golf Tournament — a day of fun\, fellowship\, and friendly competition for a great cause! Held at the beautiful Grand Haven Golf Club\, this event brings the community together to support individuals with autism\, cerebral palsy\, intellectual disabilities\, Down syndrome\, and related developmental needs. \nGolfers will enjoy a light breakfast\, a sit-down lunch\, and exciting opportunities to take part in our raffle and silent auction. The tournament features teams of four\, mulligans\, and awards for First\, Second\, and Third Place teams\, along with Closest to the Pin and Longest Drive contests. \nYour participation helps Cedar Bridge Foundation continue its mission of empowering people and expanding possibilities through programs that promote inclusion\, confidence\, and community connection. \nTee up for a purpose — play\, give\, and make a difference!
URL:https://cedarbridgefoundation.org/event/2025-bridging-the-gap-golf-tournament/
LOCATION:Grand Haven Golf Club\, 500 Riverfront Dr\,\, Palm Coast\, FL\, 32137\, United States
CATEGORIES:Advocacy,Community Outreach,Donation
ATTACH;FMTTYPE=image/jpeg:https://cedarbridgefoundation.org/wp-content/uploads/2025/09/Facebook-Ad-Golf-Tournament.jpg
ORGANIZER;CN="Cedar Bridge Foundation":MAILTO:contact@cedarbridgefoundation.org
END:VEVENT
BEGIN:VEVENT
DTSTART;TZID=America/New_York:20250520T170000
DTEND;TZID=America/New_York:20250520T200000
DTSTAMP:20260421T075956
CREATED:20250421T144226Z
LAST-MODIFIED:20250422T120655Z
UID:27875-1747760400-1747771200@cedarbridgefoundation.org
SUMMARY:Cedar Bridge Turns One at Food Truck Tuesday
DESCRIPTION:Cedar Bridge Foundation Turns One – Celebrate with Us at Food Truck Tuesday! 🎉 \nCedar Bridge Foundation (CBF) turns ONE this May\, and we’re inviting you to celebrate with us at Palm Coast’s Food Truck Tuesday! The City of Palm Coast selected us as this month’s event beneficiary\, and we’re thrilled to mark this milestone with our incredible community. \nJoin us at Central Park in Town Center for a family-friendly evening packed with delicious food\, upbeat music\, and meaningful moments. Food Truck Tuesday ranks as one of the area’s most beloved monthly gatherings\, showcasing a variety of local food trucks serving everything from savory BBQ and tacos to mouthwatering desserts and global flavors. \nThroughout our first year\, Cedar Bridge Foundation has built a strong foundation of inclusion and empowerment for individuals with developmental disabilities and their families. We’ve hosted life skills workshops\, fun social outings\, advocacy events\, and caregiver support groups — all with the goal of creating connection\, promoting independence\, and embracing neurodiversity. \nWhen you attend Food Truck Tuesday\, you don’t just enjoy great food — you help us grow. Your presence and participation support our mission and fund the programs that truly make a difference in our community. \nAs we celebrate this exciting milestone\, we also set our sights on the future. With your help\, we plan to expand our impact and continue creating opportunities where everyone can thrive. Whether you’ve walked alongside us from the beginning or are just discovering who we are\, we welcome you to join in the celebration. \nCome hungry\, bring friends\, and celebrate one incredible year of Cedar Bridge Foundation! \nFor more information about Cedar Bridge Foundation program\, visit our website at www.cedarbridgefoundation.org
URL:https://cedarbridgefoundation.org/event/cedar-bridge-turns-one-at-food-truck-tuesday/
LOCATION:Central Park Palm Coast\, 975 Central Ave\, Palm Coast\, FL\, 32164\, United States
CATEGORIES:Advocacy,Community Outreach,Donation,Social and Life Skills,Support
ATTACH;FMTTYPE=image/jpeg:https://cedarbridgefoundation.org/wp-content/uploads/2025/04/White-Pastel-Birthday-Flyer-us-Letter-Made-with-PosterMyWall.jpg
ORGANIZER;CN="Cedar Bridge Foundation":MAILTO:contact@cedarbridgefoundation.org
END:VEVENT
BEGIN:VEVENT
DTSTART;TZID=America/New_York:20250504T110000
DTEND;TZID=America/New_York:20250504T140000
DTSTAMP:20260421T075956
CREATED:20250404T122153Z
LAST-MODIFIED:20250501T123650Z
UID:27709-1746356400-1746367200@cedarbridgefoundation.org
SUMMARY:Car Wash Fundraiser
DESCRIPTION:Cedar Bridge Foundation is excited to invite the community to our upcoming Car Wash Fundraiser\, happening Sunday\, May 4th\,  a vibrant and meaningful event full of purpose\, fun\, and community spirit! In celebration of Cinco de Mayo weekend\, this festive fundraiser blends service with celebration\, offering families and friends an opportunity to support an incredible cause while getting their cars sparkling clean. The event is more than just a car wash\, it’s a chance to make a direct impact in the lives of adults with special needs by supporting the empowering programs and inclusive opportunities Cedar Bridge Foundation provides year-round. \nFrom developing life skills and promoting social engagement to advocating for independence and inclusion\, Cedar Bridge Foundation is dedicated to creating a world where every individual\, regardless of ability\, can thrive. Proceeds from the car wash will directly benefit our enrichment activities\, life skills training workshops\, fitness programs\, and social events designed to promote connection\, growth\, and joy. \nWe invite local residents\, businesses\, volunteers\, and supporters to come out\, roll up their sleeves\, and be part of something meaningful. Whether you’re driving through for a wash\, grabbing a a hot dog and refreshment\, or joining in with a sponge and smile\, your support helps make our mission possible. There will be music\, laughter\, and lots of bubbles as we work together to raise funds and awareness. \nVolunteers are welcome and needed! If you’re interested in helping out\, please email contact@cedarbridgefoundation.org. Let’s make a difference one car at a time while celebrating community\, and compassion. Join us and help Cedar Bridge Foundation continue to empower lives and expand possibilities! \n𝐓𝐡𝐢𝐬 𝐢𝐬 𝐚 𝐠𝐫𝐞𝐚𝐭 𝐨𝐩𝐩𝐨𝐫𝐭𝐮𝐧𝐢𝐭𝐲 𝐟𝐨𝐫 𝐬𝐨𝐜𝐢𝐚𝐥 𝐚𝐧𝐝 𝐥𝐢𝐟𝐞 𝐬𝐤𝐢𝐥𝐥𝐬 𝐝𝐞𝐯𝐞𝐥𝐨𝐩𝐦𝐞𝐧𝐭 𝐚𝐧𝐝 𝐠𝐫𝐨𝐰𝐭𝐡. 𝐀𝐧 𝐨𝐩𝐩𝐨𝐫𝐭𝐮𝐧𝐢𝐭𝐲 𝐭𝐨 𝐥𝐞𝐚𝐫𝐧 𝐜𝐮𝐬𝐭𝐨𝐦𝐞𝐫 𝐬𝐞𝐫𝐯𝐢𝐜𝐞 𝐬𝐤𝐢𝐥𝐥𝐬\, 𝐭𝐞𝐚𝐦𝐰𝐨𝐫𝐤 𝐬𝐤𝐢𝐥𝐥𝐬\, 𝐦𝐨𝐧𝐞𝐲 𝐬𝐤𝐢𝐥𝐥𝐬 𝐚𝐧𝐝 𝐦𝐨𝐫𝐞. \nFor more information about Cedar Bridge Foundation programs and events\, visit our website at www.cedarbridgefoundation.org
URL:https://cedarbridgefoundation.org/event/car-wash-fundraiser/
LOCATION:Auto Zone\, 4915 Belle Terre Pkwy\, Palm Coast\, FL\, 32137\, United States
CATEGORIES:Community Outreach,Donation,Social and Life Skills,Support
ATTACH;FMTTYPE=image/jpeg:https://cedarbridgefoundation.org/wp-content/uploads/2025/04/Carwash-FB-event-Cover.jpg
ORGANIZER;CN="Cedar Bridge Foundation":MAILTO:contact@cedarbridgefoundation.org
END:VEVENT
BEGIN:VEVENT
DTSTART;TZID=America/New_York:20250127T160000
DTEND;TZID=America/New_York:20250127T200000
DTSTAMP:20260421T075956
CREATED:20241216T173543Z
LAST-MODIFIED:20241219T221527Z
UID:27198-1737993600-1738008000@cedarbridgefoundation.org
SUMMARY:CBF January Fundraiser
DESCRIPTION:Mark your calendars for delicious food and impactful giving! CBF January fundraiser will be hosted by Tijuana Flats in Palm Coast\, Florida on every Monday in January (6\, 13\, 20\, 27). This local and community fundraiser event will benefit Cedar Bridge Foundation and our mission to empower individuals with developmental disAbilities (Autism Spectrum Disorder\, Cerebral Palsy\, Intellectual Disability\, Down Syndrome and more). \nFrom 4:00 PM to 8:00 PM\, you’re invited to enjoy Tijuana Flats’ signature Tex-Mex favorites\, knowing that 10% of your meal’s proceeds will directly support Cedar Bridge Foundation’s vital programs. Whether you’re craving tacos\, burritos\, or enchiladas\, this event is the perfect opportunity to indulge in fantastic food while making a difference in the lives of individuals with exceptional needs. \nFunds raised during this event will go toward expanding our life skills programs\, social activities\, and advocacy efforts aimed at promoting inclusion\, independence\, and personal growth for those we serve. By joining us\, you’ll help us continue creating opportunities for connection\, joy\, and empowerment for individuals in our community. \nHere’s how our CBF January Fundraiser works: \n\nVisit Tijuana Flats in Palm Coast\, Florida during the designated event time (4pm-8pm)\nMention Cedar Bridge Foundation when placing your order\, or present our fundraiser flyer at checkout.\nEnjoy your meal while supporting a great cause!\n\nThis is more than a dining experience—it’s a chance to be part of a movement that celebrates abilities\, fosters inclusion\, and builds a stronger community. So bring your family\, friends\, and appetite for change\, and let’s make this fundraising event a success together! \nWe look forward to seeing you there and thank you for helping us expand possibilities for individuals with special needs. Together\, we’re building bridges to brighter futures. \nFor more information about our programs\, visit our website at www.cedarbridgefoundation.org \n 
URL:https://cedarbridgefoundation.org/event/cbf-january-fundraiser-january-27/
LOCATION:Tijuana Flats\, 5890 State Rte 100 Unit 103\, Palm Coast\, FL\, 32137\, United States
CATEGORIES:Donation,Helping,Recreational,Social and Life Skills
ATTACH;FMTTYPE=image/png:https://cedarbridgefoundation.org/wp-content/uploads/2024/12/January-2025.png
ORGANIZER;CN="Cedar Bridge Foundation":MAILTO:contact@cedarbridgefoundation.org
END:VEVENT
BEGIN:VEVENT
DTSTART;TZID=America/New_York:20250120T160000
DTEND;TZID=America/New_York:20250120T200000
DTSTAMP:20260421T075956
CREATED:20241216T173412Z
LAST-MODIFIED:20241219T222336Z
UID:27196-1737388800-1737403200@cedarbridgefoundation.org
SUMMARY:CBF January Fundraiser
DESCRIPTION:Mark your calendars for delicious food and impactful giving! CBF January fundraiser will be hosted by Tijuana Flats in Palm Coast\, Florida on every Monday in January (6\, 13\, 20\, 27). This local and community fundraiser event will benefit Cedar Bridge Foundation and our mission to empower individuals with developmental disAbilities (Autism Spectrum Disorder\, Cerebral Palsy\, Intellectual Disability\, Down Syndrome and more). \nFrom 4:00 PM to 8:00 PM\, you’re invited to enjoy Tijuana Flats’ signature Tex-Mex favorites\, knowing that 10% of your meal’s proceeds will directly support Cedar Bridge Foundation’s vital programs. Whether you’re craving tacos\, burritos\, or enchiladas\, this event is the perfect opportunity to indulge in fantastic food while making a difference in the lives of individuals with exceptional needs. \nFunds raised during this event will go toward expanding our life skills programs\, social activities\, and advocacy efforts aimed at promoting inclusion\, independence\, and personal growth for those we serve. By joining us\, you’ll help us continue creating opportunities for connection\, joy\, and empowerment for individuals in our community. \nHere’s how our CBF January Fundraiser works: \n\nVisit Tijuana Flats in Palm Coast\, Florida during the designated event time (4pm-8pm)\nMention Cedar Bridge Foundation when placing your order\, or present our fundraiser flyer at checkout.\nEnjoy your meal while supporting a great cause!\n\nThis is more than a dining experience—it’s a chance to be part of a movement that celebrates abilities\, fosters inclusion\, and builds a stronger community. So bring your family\, friends\, and appetite for change\, and let’s make this fundraising event a success together! \nWe look forward to seeing you there and thank you for helping us expand possibilities for individuals with special needs. Together\, we’re building bridges to brighter futures. \nFor more information about our programs\, visit our website at www.cedarbridgefoundation.org \n 
URL:https://cedarbridgefoundation.org/event/cbf-january-fundraiser-january-20/
LOCATION:Tijuana Flats\, 5890 State Rte 100 Unit 103\, Palm Coast\, FL\, 32137\, United States
CATEGORIES:Donation,Helping,Recreational,Social and Life Skills
ATTACH;FMTTYPE=image/png:https://cedarbridgefoundation.org/wp-content/uploads/2024/12/January-2025.png
ORGANIZER;CN="Cedar Bridge Foundation":MAILTO:contact@cedarbridgefoundation.org
END:VEVENT
BEGIN:VEVENT
DTSTART;TZID=America/New_York:20250113T160000
DTEND;TZID=America/New_York:20250113T200000
DTSTAMP:20260421T075956
CREATED:20241216T172939Z
LAST-MODIFIED:20241219T223844Z
UID:27194-1736784000-1736798400@cedarbridgefoundation.org
SUMMARY:CBF January Fundraiser
DESCRIPTION:Mark your calendars for delicious food and impactful giving! CBF January fundraiser will be hosted by Tijuana Flats in Palm Coast\, Florida on every Monday in January (6\, 13\, 20\, 27). This local and community fundraiser event will benefit Cedar Bridge Foundation and our mission to empower individuals with developmental disAbilities (Autism Spectrum Disorder\, Cerebral Palsy\, Intellectual Disability\, Down Syndrome and more). \nFrom 4:00 PM to 8:00 PM\, you’re invited to enjoy Tijuana Flats’ signature Tex-Mex favorites\, knowing that 10% of your meal’s proceeds will directly support Cedar Bridge Foundation’s vital programs. Whether you’re craving tacos\, burritos\, or enchiladas\, this event is the perfect opportunity to indulge in fantastic food while making a difference in the lives of individuals with exceptional needs. \nFunds raised during this event will go toward expanding our life skills programs\, social activities\, and advocacy efforts aimed at promoting inclusion\, independence\, and personal growth for those we serve. By joining us\, you’ll help us continue creating opportunities for connection\, joy\, and empowerment for individuals in our community. \nHere’s how our CBF January Fundraiser works: \n\nVisit Tijuana Flats in Palm Coast\, Florida during the designated event time (4pm-8pm)\nMention Cedar Bridge Foundation when placing your order\, or present our fundraiser flyer at checkout.\nEnjoy your meal while supporting a great cause!\n\nThis is more than a dining experience—it’s a chance to be part of a movement that celebrates abilities\, fosters inclusion\, and builds a stronger community. So bring your family\, friends\, and appetite for change\, and let’s make this fundraising event a success together! \nWe look forward to seeing you there and thank you for helping us expand possibilities for individuals with special needs. Together\, we’re building bridges to brighter futures. \nFor more information about our programs\, visit our website at www.cedarbridgefoundation.org \n 
URL:https://cedarbridgefoundation.org/event/cbf-january-fundraiser-january-13/
LOCATION:Tijuana Flats\, 5890 State Rte 100 Unit 103\, Palm Coast\, FL\, 32137\, United States
CATEGORIES:Donation,Helping,Recreational,Social and Life Skills
ATTACH;FMTTYPE=image/png:https://cedarbridgefoundation.org/wp-content/uploads/2024/12/January-2025.png
ORGANIZER;CN="Cedar Bridge Foundation":MAILTO:contact@cedarbridgefoundation.org
END:VEVENT
BEGIN:VEVENT
DTSTART;TZID=America/New_York:20250106T160000
DTEND;TZID=America/New_York:20250106T200000
DTSTAMP:20260421T075956
CREATED:20241216T172757Z
LAST-MODIFIED:20241219T223527Z
UID:27186-1736179200-1736193600@cedarbridgefoundation.org
SUMMARY:CBF January Fundraiser
DESCRIPTION:Mark your calendars for delicious food and impactful giving! CBF January fundraiser will be hosted by Tijuana Flats in Palm Coast\, Florida on every Monday in January (6\, 13\, 20\, 27). This local and community fundraiser event will benefit Cedar Bridge Foundation and our mission to empower individuals with developmental disAbilities (Autism Spectrum Disorder\, Cerebral Palsy\, Intellectual Disability\, Down Syndrome and more). \nFrom 4:00 PM to 8:00 PM\, you’re invited to enjoy Tijuana Flats’ signature Tex-Mex favorites\, knowing that 10% of your meal’s proceeds will directly support Cedar Bridge Foundation’s vital programs. Whether you’re craving tacos\, burritos\, or enchiladas\, this event is the perfect opportunity to indulge in fantastic food while making a difference in the lives of individuals with exceptional needs. \nFunds raised during this event will go toward expanding our life skills programs\, social activities\, and advocacy efforts aimed at promoting inclusion\, independence\, and personal growth for those we serve. By joining us\, you’ll help us continue creating opportunities for connection\, joy\, and empowerment for individuals in our community. \nHere’s how our CBF January Fundraiser works: \n\nVisit Tijuana Flats in Palm Coast\, Florida during the designated event time (4pm-8pm)\nMention Cedar Bridge Foundation when placing your order\, or present our fundraiser flyer at checkout.\nEnjoy your meal while supporting a great cause!\n\nThis is more than a dining experience—it’s a chance to be part of a movement that celebrates abilities\, fosters inclusion\, and builds a stronger community. So bring your family\, friends\, and appetite for change\, and let’s make this fundraising event a success together! \nWe look forward to seeing you there and thank you for helping us expand possibilities for individuals with special needs. Together\, we’re building bridges to brighter futures. \nFor more information about our programs\, visit our website at www.cedarbridgefoundation.org \n 
URL:https://cedarbridgefoundation.org/event/cbf-january-fundraiser-january-6/
LOCATION:Tijuana Flats\, 5890 State Rte 100 Unit 103\, Palm Coast\, FL\, 32137\, United States
CATEGORIES:Donation,Helping,Recreational,Social and Life Skills
ATTACH;FMTTYPE=image/png:https://cedarbridgefoundation.org/wp-content/uploads/2024/12/January-2025.png
ORGANIZER;CN="Cedar Bridge Foundation":MAILTO:contact@cedarbridgefoundation.org
END:VEVENT
BEGIN:VEVENT
DTSTART;TZID=America/New_York:20241116T080000
DTEND;TZID=America/New_York:20241116T120000
DTSTAMP:20260421T075956
CREATED:20241023T183246Z
LAST-MODIFIED:20241219T224346Z
UID:25220-1731744000-1731758400@cedarbridgefoundation.org
SUMMARY:Fundraising Event -Good Vibes Nutrition Palm Coast
DESCRIPTION:Support Cedar Bridge Foundation by stopping by Good Vibes Nutrition! For every shake purchased\, $1.00 will be donated to help empower individuals with special needs through our programs. Come enjoy a delicious shake while making a positive impact in our community. Let’s shake it up for a good cause!
URL:https://cedarbridgefoundation.org/event/fundraising-event-good-vibes-roadhouse-palm-coas/
LOCATION:Good Vibes Nutrition\, 209 St Joe Plaza Dr\, Palm Coast\, FL\, 32164\, United States
CATEGORIES:Donation,Helping,Recreational,Social and Life Skills
ATTACH;FMTTYPE=image/png:https://cedarbridgefoundation.org/wp-content/uploads/2024/10/November-Fundraiser-Good-Vibes-1.png
ORGANIZER;CN="Cedar Bridge Foundation":MAILTO:contact@cedarbridgefoundation.org
END:VEVENT
END:VCALENDAR