BEGIN:VCALENDAR
VERSION:2.0
PRODID:-//Cedar Bridge Foundation - ECPv6.15.20//NONSGML v1.0//EN
CALSCALE:GREGORIAN
METHOD:PUBLISH
X-WR-CALNAME:Cedar Bridge Foundation
X-ORIGINAL-URL:https://cedarbridgefoundation.org
X-WR-CALDESC:Events for Cedar Bridge Foundation
REFRESH-INTERVAL;VALUE=DURATION:PT1H
X-Robots-Tag:noindex
X-PUBLISHED-TTL:PT1H
BEGIN:VTIMEZONE
TZID:America/New_York
BEGIN:DAYLIGHT
TZOFFSETFROM:-0500
TZOFFSETTO:-0400
TZNAME:EDT
DTSTART:20250309T070000
END:DAYLIGHT
BEGIN:STANDARD
TZOFFSETFROM:-0400
TZOFFSETTO:-0500
TZNAME:EST
DTSTART:20251102T060000
END:STANDARD
BEGIN:DAYLIGHT
TZOFFSETFROM:-0500
TZOFFSETTO:-0400
TZNAME:EDT
DTSTART:20260308T070000
END:DAYLIGHT
BEGIN:STANDARD
TZOFFSETFROM:-0400
TZOFFSETTO:-0500
TZNAME:EST
DTSTART:20261101T060000
END:STANDARD
BEGIN:DAYLIGHT
TZOFFSETFROM:-0500
TZOFFSETTO:-0400
TZNAME:EDT
DTSTART:20270314T070000
END:DAYLIGHT
BEGIN:STANDARD
TZOFFSETFROM:-0400
TZOFFSETTO:-0500
TZNAME:EST
DTSTART:20271107T060000
END:STANDARD
END:VTIMEZONE
BEGIN:VEVENT
DTSTART;TZID=America/New_York:20260421T090000
DTEND;TZID=America/New_York:20260421T093000
DTSTAMP:20260421T080118
CREATED:20260318T161800Z
LAST-MODIFIED:20260318T161800Z
UID:32127-1776762000-1776763800@cedarbridgefoundation.org
SUMMARY:Autism Awareness Proclamation 2026
DESCRIPTION:Raising Awareness for Autism Awareness/Acceptance Month!\nCedar Bridge Foundation proudly celebrates Autism Awareness Month\, a time to promote inclusion\, raise awareness\, and honor the contributions of individuals with autism spectrum disorder. This month gives us the chance to recognize strengths\, highlight talents\, and break down barriers that individuals with autism disabilities face. \nWhy This Matters\nAutism Awareness Month reminds us of the importance of equal opportunities\, accessibility\, and advocacy for individuals of all abilities. Many people with autism and related disabilities encounter challenges in education\, employment\, healthcare\, and community participation. By speaking up\, taking action\, and fostering inclusion\, we build a more supportive society where everyone thrives. \nCedar Bridge Foundation works every day to empower\, support\, and uplift people with developmental disabilities. We advocate\, create social programs\, and provide educational opportunities to ensure individuals access resources\, make connections\, and achieve their goals. We see abilities\, not limitations\, and we invite you to do the same. \nJoin Us in Making a Difference\nWe welcome you to get involved in events\, discussions\, and advocacy efforts that break barriers\, challenge misconceptions\, and create a more inclusive world. Whether you attend an event\, share information\, or advocate for inclusive policies\, your actions make a real impact. \nTogether\, we build a future where everyone receives respect\, recognition\, and opportunities to succeed. \n💙 Let’s take action—together! \nFor more information about our programs; visit our website www.cedarbridgefoundation.org
URL:https://cedarbridgefoundation.org/event/autism-awareness-proclamation-2026/
LOCATION:Palm Coast City Hall\, 160 Lake Avenue\, Palm Coast\, FL\, 32137\, United States
CATEGORIES:Advocacy,Community Outreach
ATTACH;FMTTYPE=image/webp:https://cedarbridgefoundation.org/wp-content/uploads/2026/03/Autism-Awareness-Proclamation.webp
ORGANIZER;CN="Cedar Bridge Foundation":MAILTO:contact@cedarbridgefoundation.org
END:VEVENT
END:VCALENDAR