BEGIN:VCALENDAR
VERSION:2.0
PRODID:-//Cedar Bridge Foundation - ECPv6.15.20//NONSGML v1.0//EN
CALSCALE:GREGORIAN
METHOD:PUBLISH
X-WR-CALNAME:Cedar Bridge Foundation
X-ORIGINAL-URL:https://cedarbridgefoundation.org
X-WR-CALDESC:Events for Cedar Bridge Foundation
REFRESH-INTERVAL;VALUE=DURATION:PT1H
X-Robots-Tag:noindex
X-PUBLISHED-TTL:PT1H
BEGIN:VTIMEZONE
TZID:America/New_York
BEGIN:DAYLIGHT
TZOFFSETFROM:-0500
TZOFFSETTO:-0400
TZNAME:EDT
DTSTART:20250309T070000
END:DAYLIGHT
BEGIN:STANDARD
TZOFFSETFROM:-0400
TZOFFSETTO:-0500
TZNAME:EST
DTSTART:20251102T060000
END:STANDARD
BEGIN:DAYLIGHT
TZOFFSETFROM:-0500
TZOFFSETTO:-0400
TZNAME:EDT
DTSTART:20260308T070000
END:DAYLIGHT
BEGIN:STANDARD
TZOFFSETFROM:-0400
TZOFFSETTO:-0500
TZNAME:EST
DTSTART:20261101T060000
END:STANDARD
BEGIN:DAYLIGHT
TZOFFSETFROM:-0500
TZOFFSETTO:-0400
TZNAME:EDT
DTSTART:20270314T070000
END:DAYLIGHT
BEGIN:STANDARD
TZOFFSETFROM:-0400
TZOFFSETTO:-0500
TZNAME:EST
DTSTART:20271107T060000
END:STANDARD
END:VTIMEZONE
BEGIN:VEVENT
DTSTART;TZID=America/New_York:20260117T113000
DTEND;TZID=America/New_York:20260117T130000
DTSTAMP:20260421T113948
CREATED:20251228T170201Z
LAST-MODIFIED:20251228T170201Z
UID:31556-1768649400-1768654800@cedarbridgefoundation.org
SUMMARY:Martin Luther King Jr. Parade in Bunnell
DESCRIPTION:Register today and help us make this event unforgettable! We will meet in front of the GW Carver Center \nRegistration: https://www.zeffy.com/en-US/ticketing/martin-luther-king-jr-parade–2026 \nCedar Bridge Foundation is proud to participate in the annual Martin Luther King Jr. Parade\, a meaningful community celebration honoring the life\, legacy\, and vision of Dr. Martin Luther King Jr. This special event brings people together to reflect on Dr. King’s message of unity\, service\, equality\, and inclusion—values that strongly align with Cedar Bridge Foundation’s mission. \nWe invite CBF participants\, families\, volunteers\, supporters\, and community partners to join us as we proudly walk together in the parade. Marching side by side\, we celebrate diversity\, advocate for inclusion\, and raise awareness for individuals with exceptional needs—demonstrating that everyone belongs and everyone matters. \nParticipation in the parade is a joyful and empowering experience\, offering a visible reminder of the importance of community connection\, mutual respect\, and working together to build a more inclusive world. \nCome walk with us\, celebrate service and unity\, and help Cedar Bridge Foundation continue to bridge the gap between ability and opportunity. \nTogether\, we honor the dream. Together\, we build the bridge. \nEmpowering People. Expanding Possibilities. \nLet’s show the community what Cedar Bridge is all about\,  joy\, inclusion\, and a commitment to expanding possibilities for individuals with developmental disabilities. \nFor additional information about Cedar Bridge Foundation: www.cedarbridgefoundation.org
URL:https://cedarbridgefoundation.org/event/martin-luther-king-jr-parade-in-bunnell/
LOCATION:Bunnell\, 201 E. Drain Street\, Bunnell\, FL\, 32110\, United States
CATEGORIES:Advocacy,Community Outreach,Recreational
ATTACH;FMTTYPE=image/png:https://cedarbridgefoundation.org/wp-content/uploads/2025/12/Join-Us.png
ORGANIZER;CN="Cedar Bridge Foundation":MAILTO:contact@cedarbridgefoundation.org
END:VEVENT
BEGIN:VEVENT
DTSTART;TZID=America/New_York:20260128T180000
DTEND;TZID=America/New_York:20260128T190000
DTSTAMP:20260421T113948
CREATED:20260120T145859Z
LAST-MODIFIED:20260120T145859Z
UID:31653-1769623200-1769626800@cedarbridgefoundation.org
SUMMARY:Bridge to Support-Caregiver Support Virtual Meeting-January 2026
DESCRIPTION:Date: January 28\, 2026 Time: 6pm-7pm Virtual  \nTo register for the support group: https://www.zeffy.com/en-US/ticketing/bridge-to-support-caregiver-support-group-january–2026 \nAre you a parent or caregiver of someone with developmental disAbilities such as autism (ASD)\, cerebral palsy\, Down syndrome\, or intellectual disabilities? 𝐉𝐨𝐢𝐧 𝐮𝐬 𝐟𝐨𝐫 𝐚 𝐰𝐞𝐥𝐜𝐨𝐦𝐢𝐧𝐠 𝐚𝐧𝐝 𝐬𝐮𝐩𝐩𝐨𝐫𝐭𝐢𝐯𝐞 virtual 𝐠𝐚𝐭𝐡𝐞𝐫𝐢𝐧𝐠 𝐝𝐞𝐬𝐢𝐠𝐧𝐞𝐝 𝐣𝐮𝐬𝐭 𝐟𝐨𝐫 𝐲𝐨𝐮! \nOnce registered\, a virtual link will be emailed to you as the meeting date approaches.  \n𝐓𝐡𝐢𝐬 𝐬𝐮𝐩𝐩𝐨𝐫𝐭 𝐠𝐫𝐨𝐮𝐩 𝐢𝐬 𝐨𝐩𝐞𝐧 𝐭𝐨 𝐜𝐚𝐫𝐞𝐠𝐢𝐯𝐞𝐫𝐬 𝐰𝐡𝐨 𝐜𝐚𝐫𝐞 𝐟𝐨𝐫 𝐢𝐧𝐝𝐢𝐯𝐢𝐝𝐮𝐚𝐥𝐬 𝐨𝐟 𝐚𝐥𝐥 𝐚𝐠𝐞𝐬\, 𝐟𝐫𝐨𝐦 𝐲𝐨𝐮𝐧𝐠 𝐜𝐡𝐢𝐥𝐝𝐫𝐞𝐧 𝐭𝐨 𝐚𝐝𝐮𝐥𝐭𝐬. We provide a safe space to connect with others who understand your journey\, share experiences\, and access valuable resources. Together\, we’ll explore ways to navigate the challenges and celebrate the triumphs. \nThrough open conversations and shared experiences\, this group aims to build a community of understanding\, resilience\, and empowerment for all families. Whether you’re seeking advice\, looking to share your story\, or simply want to meet others who understand– you’re not alone — and we’re here for you! \nTogether\, let’s foster a community of hope\, empowerment\, and connection. We can’t wait to meet you and walk this journey with you! \nQuestions? Feel free to reach out to us at 𝐜𝐨𝐧𝐭𝐚𝐜𝐭@𝐜𝐞𝐝𝐚𝐫𝐛𝐫𝐢𝐝𝐠𝐞𝐟𝐨𝐮𝐧𝐝𝐚𝐭𝐢𝐨𝐧.𝐨𝐫𝐠 \nJoin us and be a part of a caring community that truly understands. 💙 \nFor more information about Cedar Bridge Foundation programs and activities or ways to donate\, visit our website at 𝐰𝐰𝐰.𝐜𝐞𝐝𝐚𝐫𝐛𝐫𝐢𝐝𝐠𝐞𝐟𝐨𝐮𝐧𝐝𝐚𝐭𝐢𝐨𝐧.𝐨𝐫𝐠
URL:https://cedarbridgefoundation.org/event/bridge-to-support-caregiver-support-virtual-meeting-january-2026/
LOCATION:Virtual Meeting
CATEGORIES:Advocacy,Support
ATTACH;FMTTYPE=image/jpeg:https://cedarbridgefoundation.org/wp-content/uploads/2025/03/Caregiver-Support-Group-Facebook-event-cover.jpg
ORGANIZER;CN="Cedar Bridge Foundation":MAILTO:contact@cedarbridgefoundation.org
END:VEVENT
END:VCALENDAR