BEGIN:VCALENDAR
VERSION:2.0
PRODID:-//Cedar Bridge Foundation - ECPv6.15.20//NONSGML v1.0//EN
CALSCALE:GREGORIAN
METHOD:PUBLISH
X-WR-CALNAME:Cedar Bridge Foundation
X-ORIGINAL-URL:https://cedarbridgefoundation.org
X-WR-CALDESC:Events for Cedar Bridge Foundation
REFRESH-INTERVAL;VALUE=DURATION:PT1H
X-Robots-Tag:noindex
X-PUBLISHED-TTL:PT1H
BEGIN:VTIMEZONE
TZID:America/New_York
BEGIN:DAYLIGHT
TZOFFSETFROM:-0500
TZOFFSETTO:-0400
TZNAME:EDT
DTSTART:20240310T070000
END:DAYLIGHT
BEGIN:STANDARD
TZOFFSETFROM:-0400
TZOFFSETTO:-0500
TZNAME:EST
DTSTART:20241103T060000
END:STANDARD
BEGIN:DAYLIGHT
TZOFFSETFROM:-0500
TZOFFSETTO:-0400
TZNAME:EDT
DTSTART:20250309T070000
END:DAYLIGHT
BEGIN:STANDARD
TZOFFSETFROM:-0400
TZOFFSETTO:-0500
TZNAME:EST
DTSTART:20251102T060000
END:STANDARD
BEGIN:DAYLIGHT
TZOFFSETFROM:-0500
TZOFFSETTO:-0400
TZNAME:EDT
DTSTART:20260308T070000
END:DAYLIGHT
BEGIN:STANDARD
TZOFFSETFROM:-0400
TZOFFSETTO:-0500
TZNAME:EST
DTSTART:20261101T060000
END:STANDARD
END:VTIMEZONE
BEGIN:VEVENT
DTSTART;TZID=America/New_York:20250412T100000
DTEND;TZID=America/New_York:20250412T140000
DTSTAMP:20260422T032435
CREATED:20250329T133045Z
LAST-MODIFIED:20250329T133045Z
UID:27622-1744452000-1744466400@cedarbridgefoundation.org
SUMMARY:CBF at Housing Fair
DESCRIPTION:Cedar Bridge Foundation at the Palm Coast Housing Fair! \nCedar Bridge Foundation is excited to participate in the upcoming Housing Fair at the Palm Coast Community Center! This event brings together organizations\, professionals\, and community members to explore housing opportunities\, resources\, and support services. \nStop by our table to learn more about our mission to empower individuals with developmental disAbilities through advocacy\, education\, life skills programs\, and community connection. We’ll be sharing information about our initiatives and how we work to expand possibilities and promote independence for those with special needs. \nLet’s connect and collaborate for a more supportive future! Whether you’re seeking resources or looking to get involved\, we welcome you to join us in spreading our mission. \nWe are actively seeking ambassadors and volunteers to join our efforts! If you’re passionate about making a difference\, come chat with us about how you can get involved and help us empower lives through service\, outreach\, and advocacy. \nFor more information about Cedar Bridge Foundation programs\, visit our website at www.cedarbridgefoundation.org
URL:https://cedarbridgefoundation.org/event/cbf-at-housing-fair/
LOCATION:Palm Coast Community Center\, 305 Palm Coast Pkwy NE\,\, Palm Coast\, FL\, 32137\, United States
CATEGORIES:Advocacy,Social and Life Skills
ATTACH;FMTTYPE=image/jpeg:https://cedarbridgefoundation.org/wp-content/uploads/2025/03/Housing-Fair-1.jpg
ORGANIZER;CN="Cedar Bridge Foundation":MAILTO:contact@cedarbridgefoundation.org
END:VEVENT
BEGIN:VEVENT
DTSTART;TZID=America/New_York:20250428T160000
DTEND;TZID=America/New_York:20250428T170000
DTSTAMP:20260422T032435
CREATED:20250316T120855Z
LAST-MODIFIED:20250316T122207Z
UID:27479-1745856000-1745859600@cedarbridgefoundation.org
SUMMARY:Bridge to Future Informational Session APD
DESCRIPTION:Bridge to the Future Informational Session with APD – Empowering Families with Knowledge and Resources \nCedar Bridge Foundation is hosting a Bridge to the Future Informational Session featuring the Agency for Persons with Disabilities (APD). This session offers families a valuable opportunity to learn more about the services\, supports\, and resources APD provides for individuals with developmental disabilities\, including autism\, cerebral palsy\, intellectual disabilities\, Down syndrome\, and more. \nParents and guardians will discover how APD can support their loved ones—from children and teens to adults—through every stage of life. Attendees will learn about eligibility requirements\, service options\, and how to access critical support systems. It’s also a chance to connect directly with professionals and local resources in the community. \nWhat is Bridge to the Future? \nBridge to the Future is a Cedar Bridge Foundation initiative designed to help families navigate the journey of supporting individuals with developmental disabilities. The program educates\, empowers\, and connects families and caregivers with the tools and resources they need to plan for a successful future. \nOur goal is to make sure families feel informed\, confident\, and supported as they face important transitions and decisions. The program connects participants to a strong network of community partners and expert guidance\, helping them build a solid foundation for long-term success. \nThrough engaging seminars and informational sessions\, Bridge to the Future delivers practical tools\, insights\, and strategies to support families at every stage. These sessions not only help young adults prepare for life after graduation\, but also guide parents of children and teenagers as they start planning for what lies ahead. \nFrom early preparation to long-term planning\, Bridge to the Future is here to support you every step of the way. \nFor more information about Cedar Bride Foundation programs\, initiatives and events visit our website: www.cedarbridgefoundation.org
URL:https://cedarbridgefoundation.org/event/bridge-to-future-apd/
LOCATION:Palm Coast Public Library\, 2500 Palm Coast Pkwy NW\, Palm Coast\, FL\, 32137\, United States
CATEGORIES:Advocacy,Community Outreach,Education
ATTACH;FMTTYPE=image/jpeg:https://cedarbridgefoundation.org/wp-content/uploads/2025/03/April-2025-Meeting-APD.jpg
ORGANIZER;CN="Cedar Bridge Foundation":MAILTO:contact@cedarbridgefoundation.org
END:VEVENT
END:VCALENDAR