BEGIN:VCALENDAR
VERSION:2.0
PRODID:-//Cedar Bridge Foundation - ECPv6.15.20//NONSGML v1.0//EN
CALSCALE:GREGORIAN
METHOD:PUBLISH
X-WR-CALNAME:Cedar Bridge Foundation
X-ORIGINAL-URL:https://cedarbridgefoundation.org
X-WR-CALDESC:Events for Cedar Bridge Foundation
REFRESH-INTERVAL;VALUE=DURATION:PT1H
X-Robots-Tag:noindex
X-PUBLISHED-TTL:PT1H
BEGIN:VTIMEZONE
TZID:America/New_York
BEGIN:DAYLIGHT
TZOFFSETFROM:-0500
TZOFFSETTO:-0400
TZNAME:EDT
DTSTART:20240310T070000
END:DAYLIGHT
BEGIN:STANDARD
TZOFFSETFROM:-0400
TZOFFSETTO:-0500
TZNAME:EST
DTSTART:20241103T060000
END:STANDARD
BEGIN:DAYLIGHT
TZOFFSETFROM:-0500
TZOFFSETTO:-0400
TZNAME:EDT
DTSTART:20250309T070000
END:DAYLIGHT
BEGIN:STANDARD
TZOFFSETFROM:-0400
TZOFFSETTO:-0500
TZNAME:EST
DTSTART:20251102T060000
END:STANDARD
BEGIN:DAYLIGHT
TZOFFSETFROM:-0500
TZOFFSETTO:-0400
TZNAME:EDT
DTSTART:20260308T070000
END:DAYLIGHT
BEGIN:STANDARD
TZOFFSETFROM:-0400
TZOFFSETTO:-0500
TZNAME:EST
DTSTART:20261101T060000
END:STANDARD
END:VTIMEZONE
BEGIN:VEVENT
DTSTART;TZID=America/New_York:20250513T180000
DTEND;TZID=America/New_York:20250513T193000
DTSTAMP:20260421T233243
CREATED:20250421T171557Z
LAST-MODIFIED:20250421T171557Z
UID:27900-1747159200-1747164600@cedarbridgefoundation.org
SUMMARY:City of Palm Coast ASD Group for Adults May 13 2025
DESCRIPTION:Join us for COPC ASD Social Group! Cedar Bridge Foundation members attend the Autism Spectrum Disorder (ASD) Social Group. This group is a social and recreational program held twice a month (second and fourth Tuesday of the month). Each session there is a different activity. There is no cost for this activity. ACTIVITY – Drum Circle with Derm Dermody
URL:https://cedarbridgefoundation.org/event/city-of-palm-coast-asd-group-for-adults-may-13-2025/
LOCATION:Palm Coast Community Center\, 305 Palm Coast Pkwy NE\,\, Palm Coast\, FL\, 32137\, United States
CATEGORIES:Recreational
ATTACH;FMTTYPE=image/png:https://cedarbridgefoundation.org/wp-content/uploads/2024/10/ASD-Group-1.png
ORGANIZER;CN="Cedar Bridge Foundation":MAILTO:contact@cedarbridgefoundation.org
END:VEVENT
BEGIN:VEVENT
DTSTART;TZID=America/New_York:20250513T180000
DTEND;TZID=America/New_York:20250513T193000
DTSTAMP:20260421T233243
CREATED:20250421T172159Z
LAST-MODIFIED:20250421T172159Z
UID:27902-1747159200-1747164600@cedarbridgefoundation.org
SUMMARY:City of Palm Coast ASD Group for Adults May 27 2025
DESCRIPTION:Join us for COPC ASD Social Group! Cedar Bridge Foundation members attend the Autism Spectrum Disorder (ASD) Social Group. This group is a social and recreational program held twice a month (second and fourth Tuesday of the month). Each session there is a different activity. There is no cost for this activity. ACTIVITY – Pickle Ball at Souther Recreational in Palm Coast
URL:https://cedarbridgefoundation.org/event/city-of-palm-coast-asd-group-for-adults-may-27-2025/
LOCATION:Southern Recreational Center\, 1290 Belle Terre Pkwy\,\, Palm Coast\, FL\, 32137\, United States
CATEGORIES:Recreational
ATTACH;FMTTYPE=image/jpeg:https://cedarbridgefoundation.org/wp-content/uploads/2025/04/Screenshot_2024-04-30_at_4.jpeg
ORGANIZER;CN="Cedar Bridge Foundation":MAILTO:contact@cedarbridgefoundation.org
END:VEVENT
END:VCALENDAR