BEGIN:VCALENDAR
VERSION:2.0
PRODID:-//Cedar Bridge Foundation - ECPv6.15.20//NONSGML v1.0//EN
CALSCALE:GREGORIAN
METHOD:PUBLISH
X-WR-CALNAME:Cedar Bridge Foundation
X-ORIGINAL-URL:https://cedarbridgefoundation.org
X-WR-CALDESC:Events for Cedar Bridge Foundation
REFRESH-INTERVAL;VALUE=DURATION:PT1H
X-Robots-Tag:noindex
X-PUBLISHED-TTL:PT1H
BEGIN:VTIMEZONE
TZID:America/New_York
BEGIN:DAYLIGHT
TZOFFSETFROM:-0500
TZOFFSETTO:-0400
TZNAME:EDT
DTSTART:20240310T070000
END:DAYLIGHT
BEGIN:STANDARD
TZOFFSETFROM:-0400
TZOFFSETTO:-0500
TZNAME:EST
DTSTART:20241103T060000
END:STANDARD
BEGIN:DAYLIGHT
TZOFFSETFROM:-0500
TZOFFSETTO:-0400
TZNAME:EDT
DTSTART:20250309T070000
END:DAYLIGHT
BEGIN:STANDARD
TZOFFSETFROM:-0400
TZOFFSETTO:-0500
TZNAME:EST
DTSTART:20251102T060000
END:STANDARD
BEGIN:DAYLIGHT
TZOFFSETFROM:-0500
TZOFFSETTO:-0400
TZNAME:EDT
DTSTART:20260308T070000
END:DAYLIGHT
BEGIN:STANDARD
TZOFFSETFROM:-0400
TZOFFSETTO:-0500
TZNAME:EST
DTSTART:20261101T060000
END:STANDARD
END:VTIMEZONE
BEGIN:VEVENT
DTSTART;TZID=America/New_York:20250422T180000
DTEND;TZID=America/New_York:20250422T193000
DTSTAMP:20260422T012804
CREATED:20250328T111529Z
LAST-MODIFIED:20250328T111529Z
UID:27553-1745344800-1745350200@cedarbridgefoundation.org
SUMMARY:City of Palm Coast ASD Group for Adults April 22 2025
DESCRIPTION:Join us for COPC ASD Social Group! Cedar Bridge Foundation members attend the Autism Spectrum Disorder (ASD) Social Group. This group is a social and recreational program held twice a month (second and fourth Tuesday of the month). Each session there is a different activity. There is no cost for this activity. ACTIVITY – Tai Chi – Meditation / Visualization
URL:https://cedarbridgefoundation.org/event/city-of-palm-coast-asd-group-for-adults-april-22-2025/
LOCATION:Palm Coast Community Center\, 305 Palm Coast Pkwy NE\,\, Palm Coast\, FL\, 32137\, United States
CATEGORIES:Recreational
ATTACH;FMTTYPE=image/png:https://cedarbridgefoundation.org/wp-content/uploads/2024/10/ASD-Group-1.png
ORGANIZER;CN="Cedar Bridge Foundation":MAILTO:contact@cedarbridgefoundation.org
END:VEVENT
END:VCALENDAR